BEGIN:VCALENDAR
VERSION:2.0
PRODID:-//wp-events-plugin.com//7.2.3.1//EN
TZID:America/Los_Angeles
X-WR-TIMEZONE:America/Los_Angeles
BEGIN:VEVENT
UID:5854@treglobal.org
DTSTART;TZID=America/New_York:20230524T191500
DTEND;TZID=America/New_York:20230524T200000
DTSTAMP:20230505T010221Z
URL:https://treglobal.org/event/tre-group-shake-9/
SUMMARY:TRE Group Shake
DESCRIPTION:Learn the easy and helpful technique of TRE (Tension and Trauma
  reducing exercises). The self-regulation method can be done on your own a
 t any time. It is also helpful to tremor with others! New students and exp
 erienced ones are welcome to attend.\n\nOnline option available (via zoom)
  upon request once registered for the workshop.\n\nWednesday 7:15-8:00pm\n
 \n5/24\n\n$20
CATEGORIES:Intro Workshops / Recurring Classes / Online Events
LOCATION:https://www.yoga-loka.com/%20
END:VEVENT
BEGIN:VTIMEZONE
TZID:America/New_York
X-LIC-LOCATION:America/New_York
BEGIN:DAYLIGHT
DTSTART:20230312T030000
TZOFFSETFROM:-0500
TZOFFSETTO:-0400
TZNAME:EDT
END:DAYLIGHT
END:VTIMEZONE
END:VCALENDAR