BEGIN:VCALENDAR
VERSION:2.0
PRODID:-//wp-events-plugin.com//7.2.3.1//EN
TZID:America/Los_Angeles
X-WR-TIMEZONE:America/Los_Angeles
BEGIN:VEVENT
UID:6041@treglobal.org
DTSTART;TZID=America/New_York:20240501T191500
DTEND;TZID=America/New_York:20240501T201500
DTSTAMP:20240413T040032Z
URL:https://treglobal.org/event/tre-group-shake-15/
SUMMARY:TRE Group Shake
DESCRIPTION:Learn the easy and helpful technique of TRE (Tension and Trauma
  reducing exercises). The self-regulation method can be done on your own a
 t any time. It is also helpful to tremor with others! New students and exp
 erienced ones are welcome to attend.\nOnline option available (via zoom) u
 pon request once registered for the workshop.\n\nThursday 7:15-8:15 pm EST
 \n\n5/1\n\n$20
CATEGORIES:Intro Workshops / Recurring Classes / Online Events
LOCATION:Yoga Loka\, 34 Bridge Street\, Frenchtown\, New Jersey\, 08825\, U
 nited States
GEO:40.5262346;-75.06134780000002
X-APPLE-STRUCTURED-LOCATION;VALUE=URI;X-ADDRESS=34 Bridge Street\, Frenchto
 wn\, New Jersey\, 08825\, United States;X-APPLE-RADIUS=100;X-TITLE=Yoga Lo
 ka:geo:40.5262346,-75.06134780000002
END:VEVENT
BEGIN:VTIMEZONE
TZID:America/New_York
X-LIC-LOCATION:America/New_York
BEGIN:DAYLIGHT
DTSTART:20240310T030000
TZOFFSETFROM:-0500
TZOFFSETTO:-0400
TZNAME:EDT
END:DAYLIGHT
END:VTIMEZONE
END:VCALENDAR