BEGIN:VCALENDAR
VERSION:2.0
PRODID:-//wp-events-plugin.com//7.2.3.1//EN
TZID:America/Los_Angeles
X-WR-TIMEZONE:America/Los_Angeles
BEGIN:VEVENT
UID:5974@treglobal.org
DTSTART;TZID=America/New_York:20240124T191500
DTEND;TZID=America/New_York:20240124T200000
DTSTAMP:20240108T002428Z
URL:https://treglobal.org/event/tre-group-shake-14/
SUMMARY:TRE Group Shake
DESCRIPTION:Learn the easy and helpful technique of TRE (Tension and Trauma
  reducing exercises). The self-regulation method can be done on your own a
 t any time. It is also helpful to tremor with others! New students and exp
 erienced ones are welcome to attend. Online option available (via zoom) up
 on request once registered for the workshop.\nWednesday 1/24\n7:15-8:00pm\
 n$20
CATEGORIES:Intro Workshops / Recurring Classes / Online Events
LOCATION:Yoga Loka\, 34 bridge street\, frenchtown\, NJ\, 08825\, United St
 ates
GEO:42.2439139;-70.96411590000002
X-APPLE-STRUCTURED-LOCATION;VALUE=URI;X-ADDRESS=34 bridge street\, frenchto
 wn\, NJ\, 08825\, United States;X-APPLE-RADIUS=100;X-TITLE=Yoga Loka:geo:4
 2.2439139,-70.96411590000002
END:VEVENT
BEGIN:VTIMEZONE
TZID:America/New_York
X-LIC-LOCATION:America/New_York
BEGIN:STANDARD
DTSTART:20231105T010000
TZOFFSETFROM:-0400
TZOFFSETTO:-0500
TZNAME:EST
END:STANDARD
END:VTIMEZONE
END:VCALENDAR