BEGIN:VCALENDAR
VERSION:2.0
PRODID:-//wp-events-plugin.com//7.2.3.1//EN
TZID:America/Los_Angeles
X-WR-TIMEZONE:America/Los_Angeles
BEGIN:VEVENT
UID:5949@treglobal.org
DTSTART;TZID=America/New_York:20231130T191500
DTEND;TZID=America/New_York:20231130T200000
DTSTAMP:20231030T163746Z
URL:https://treglobal.org/event/tre-group-shake-13/
SUMMARY:TRE Group Shake
DESCRIPTION:Learn the easy and helpful technique of TRE (Tension and Trauma
  reducing exercises). The self-regulation method can be done on your own a
 t any time. It is also helpful to tremor with others!\nNew students and ex
 perienced ones are welcome to attend. Online option available (via zoom) u
 pon request once registered for the workshop.\nThursday 11/30\n7:15-8:00pm
 \n$20
CATEGORIES:Intro Workshops / Recurring Classes / Online Events
LOCATION:https://www.yoga-loka.com/workshops.html
END:VEVENT
BEGIN:VTIMEZONE
TZID:America/New_York
X-LIC-LOCATION:America/New_York
BEGIN:STANDARD
DTSTART:20231105T010000
TZOFFSETFROM:-0400
TZOFFSETTO:-0500
TZNAME:EST
END:STANDARD
END:VTIMEZONE
END:VCALENDAR