BEGIN:VCALENDAR
VERSION:2.0
PRODID:-//wp-events-plugin.com//7.2.3.1//EN
TZID:America/Los_Angeles
X-WR-TIMEZONE:America/Los_Angeles
BEGIN:VEVENT
UID:5872@treglobal.org
DTSTART;TZID=America/New_York:20230830T191500
DTEND;TZID=America/New_York:20230830T200000
DTSTAMP:20230720T174806Z
URL:https://treglobal.org/event/tre-group-shake-10/
SUMMARY:TRE Group Shake
DESCRIPTION:Learn the easy and helpful technique of TRE (Tension and Trauma
  reducing exercises). The self-regulation method can be done on your own a
 t any time. It is also helpful to tremor with others! New students and exp
 erienced ones are welcome to attend.\nOnline option available (via zoom) u
 pon request once registered for the workshop.\nWednesday 7:15-8:00pm\n8/30
 \n$20\n&nbsp\;
CATEGORIES:Intro Workshops / Recurring Classes / Online Events
LOCATION:Yoga Loka\, 23 Race St\, Frenchtown\, NJ\, 08825\, New York\, Unit
 ed States
X-APPLE-STRUCTURED-LOCATION;VALUE=URI;X-ADDRESS=23 Race St\, Frenchtown\, N
 J\, 08825\, New York\, United States;X-APPLE-RADIUS=100;X-TITLE=Yoga Loka:
 geo:0,0
END:VEVENT
BEGIN:VTIMEZONE
TZID:America/New_York
X-LIC-LOCATION:America/New_York
BEGIN:DAYLIGHT
DTSTART:20230312T030000
TZOFFSETFROM:-0500
TZOFFSETTO:-0400
TZNAME:EDT
END:DAYLIGHT
END:VTIMEZONE
END:VCALENDAR