BEGIN:VCALENDAR
VERSION:2.0
PRODID:-//wp-events-plugin.com//7.2.3.1//EN
TZID:America/Los_Angeles
X-WR-TIMEZONE:America/Los_Angeles
BEGIN:VEVENT
UID:1554@treglobal.org
DTSTART;TZID=America/Los_Angeles:20160321T174500
DTEND;TZID=America/Los_Angeles:20160321T184500
DTSTAMP:20160307T222339Z
URL:https://treglobal.org/event/tre-group-session-drop-in-class-open-to-th
 e-general-public-4/
SUMMARY:Somerville\, New Jersey - TRE Group Session (drop in class\, open t
 o the general public)
DESCRIPTION:For additional information\, please contact:Bonnie Pariser908-2
 68-7430Bonnie@yoga-loka.com You can also visit the website at: www.Yoga-
 Loka.com
CATEGORIES:Intro Workshops / Recurring Classes / Online Events
LOCATION:Yoga Loka\, 19 North Doughty Road\, Somerville\, New Jersey\, 0887
 6\, United States
GEO:40.5708108;-74.61808109999998
X-APPLE-STRUCTURED-LOCATION;VALUE=URI;X-ADDRESS=19 North Doughty Road\, Som
 erville\, New Jersey\, 08876\, United States;X-APPLE-RADIUS=100;X-TITLE=Yo
 ga Loka:geo:40.5708108,-74.61808109999998
END:VEVENT
BEGIN:VTIMEZONE
TZID:America/Los_Angeles
X-LIC-LOCATION:America/Los_Angeles
BEGIN:DAYLIGHT
DTSTART:20160313T030000
TZOFFSETFROM:-0800
TZOFFSETTO:-0700
TZNAME:PDT
END:DAYLIGHT
END:VTIMEZONE
END:VCALENDAR