BEGIN:VCALENDAR
VERSION:2.0
PRODID:-//wp-events-plugin.com//7.2.3.1//EN
TZID:America/Los_Angeles
X-WR-TIMEZONE:America/Los_Angeles
BEGIN:VEVENT
UID:1560@treglobal.org
DTSTART;TZID=America/Los_Angeles:20160316T110000
DTEND;TZID=America/Los_Angeles:20160316T120000
DTSTAMP:20160307T222239Z
URL:https://treglobal.org/event/tre-group-session-drop-in-class-open-to-th
 e-general-public-10/
SUMMARY:Frenchtown\, New Jersey - TRE Group Session (drop in class\, open t
 o the general public)
DESCRIPTION:For additional information\, please contact:Bonnie Pariser908-2
 68-7430Bonnie@yoga-loka.com You can also visit the website at: www.Yoga-
 Loka.com
CATEGORIES:Intro Workshops / Recurring Classes / Online Events
LOCATION:Yoga Loka\, 34 Bridge Street\, Frenchtown\, New Jersey\, 08825\, U
 nited States
GEO:40.5262346;-75.06134780000002
X-APPLE-STRUCTURED-LOCATION;VALUE=URI;X-ADDRESS=34 Bridge Street\, Frenchto
 wn\, New Jersey\, 08825\, United States;X-APPLE-RADIUS=100;X-TITLE=Yoga Lo
 ka:geo:40.5262346,-75.06134780000002
END:VEVENT
BEGIN:VTIMEZONE
TZID:America/Los_Angeles
X-LIC-LOCATION:America/Los_Angeles
BEGIN:DAYLIGHT
DTSTART:20160313T030000
TZOFFSETFROM:-0800
TZOFFSETTO:-0700
TZNAME:PDT
END:DAYLIGHT
END:VTIMEZONE
END:VCALENDAR