BEGIN:VCALENDAR
VERSION:2.0
PRODID:-//wp-events-plugin.com//7.2.3.1//EN
TZID:America/Los_Angeles
X-WR-TIMEZONE:America/Los_Angeles
BEGIN:VEVENT
UID:5980@treglobal.org
DTSTART;TZID=Europe/London:20240122T183000
DTEND;TZID=Europe/London:20240122T194500
DTSTAMP:20240112T114637Z
URL:https://treglobal.org/event/tre-group-non-beginners-class-in-person-mo
 nthly-with-chandani-statesofhealing-london-uk/
SUMMARY:TRE Group "non-beginners" Class (In-Person\, Monthly) with Chandani
  @statesofhealing\, London UK
DESCRIPTION:Non-beginners Group\nMonday 22 January 630-745pm / Book via ema
 il to Chandani statesofhealing@gmail.com\nThe Practice Rooms\, Islington N
 1 9RD\nA small group space for those who already know what TRE is and have
  begun their own practice (either attended a group or private sessions wit
 h me or another practitioner). This is a supportive and held space to deve
 lop your practice\, ask questions and perhaps explore new cues\, shapes\, 
 movement patters to deepen your shaking experience.
CATEGORIES:Intro Workshops / Recurring Classes / Online Events
LOCATION:The Practice Rooms Islington\, 150 Caledonian Road\, London\, N1 9
 RD\, United Kingdom
X-APPLE-STRUCTURED-LOCATION;VALUE=URI;X-ADDRESS=150 Caledonian Road\, Londo
 n\, N1 9RD\, United Kingdom;X-APPLE-RADIUS=100;X-TITLE=The Practice Rooms 
 Islington:geo:0,0
END:VEVENT
BEGIN:VTIMEZONE
TZID:Europe/London
X-LIC-LOCATION:Europe/London
BEGIN:STANDARD
DTSTART:20231029T010000
TZOFFSETFROM:+0100
TZOFFSETTO:+0000
TZNAME:GMT
END:STANDARD
END:VTIMEZONE
END:VCALENDAR