BEGIN:VCALENDAR
VERSION:2.0
PRODID:-//wp-events-plugin.com//7.2.3.1//EN
TZID:America/Los_Angeles
X-WR-TIMEZONE:America/Los_Angeles
BEGIN:VEVENT
UID:5975@treglobal.org
DTSTART;TZID=Europe/Amsterdam:20240114T100000
DTEND;TZID=Europe/Amsterdam:20240114T111500
DTSTAMP:20240108T110901Z
URL:https://treglobal.org/event/tre-group-class-2/
SUMMARY:TRE Group Class
DESCRIPTION:Have you previously experienced TRE and are you interested in m
 ore knowledge about your body? And releae stress and tension by tremoring 
 or shaking in a group class.\n\nCome to this group class:\n\nSunday Januar
 y 14 - group lesson of 75 minutes.\n\nYou can register by whatsapp +316451
 46467
CATEGORIES:Intro Workshops / Recurring Classes / Online Events
LOCATION:Den Haag\, Laan van Meerdervoort 190\, Den Haag\, Zuid Holland\, 2
 517 BH\, Netherlands
X-APPLE-STRUCTURED-LOCATION;VALUE=URI;X-ADDRESS=Laan van Meerdervoort 190\,
  Den Haag\, Zuid Holland\, 2517 BH\, Netherlands;X-APPLE-RADIUS=100;X-TITL
 E=Den Haag:geo:0,0
END:VEVENT
BEGIN:VTIMEZONE
TZID:Europe/Amsterdam
X-LIC-LOCATION:Europe/Amsterdam
BEGIN:STANDARD
DTSTART:20231029T020000
TZOFFSETFROM:+0200
TZOFFSETTO:+0100
TZNAME:CET
END:STANDARD
END:VTIMEZONE
END:VCALENDAR