BEGIN:VCALENDAR
VERSION:2.0
PRODID:-//wp-events-plugin.com//7.2.3.1//EN
TZID:America/Los_Angeles
X-WR-TIMEZONE:America/Los_Angeles
BEGIN:VEVENT
UID:6089@treglobal.org
DTSTART;TZID=Asia/Jerusalem:20240905T090000
DTEND;TZID=Asia/Jerusalem:20240906T170000
DTSTAMP:20240811T122504Z
URL:https://treglobal.org/event/tre-global-certification-training-module-1
 /
SUMMARY:TRE™ Global Certification Training Module 1
DESCRIPTION:Module 1\nThis Workshop is open to all to learn about TRE\, to 
 deepen your TRE experience or to begin the journey to Certification as a T
 RE Certified Provider.\nTaught in HEBREW  by Anya Bloom - TRE Global Cert
 ification Trainer .\nSmall Group.\nThursday 5th September 09.00-17.00\, Fr
 iday 6th September 08.00-15.00
ATTACH;FMTTYPE=image/jpeg:https://treglobal.org/wp-content/uploads/2024/08
 /5-6-ספטמבר-2024-2-2.png
CATEGORIES:Certification Trainings
LOCATION:Mifne - Physiotherapy Clinic\, Shlomo Hamelech 41\, Netanya\, Isra
 el
X-APPLE-STRUCTURED-LOCATION;VALUE=URI;X-ADDRESS=Shlomo Hamelech 41\, Netany
 a\, Israel;X-APPLE-RADIUS=100;X-TITLE=Mifne - Physiotherapy Clinic:geo:0,0
END:VEVENT
BEGIN:VTIMEZONE
TZID:Asia/Jerusalem
X-LIC-LOCATION:Asia/Jerusalem
BEGIN:DAYLIGHT
DTSTART:20240329T030000
TZOFFSETFROM:+0200
TZOFFSETTO:+0300
TZNAME:IDT
END:DAYLIGHT
END:VTIMEZONE
END:VCALENDAR