BEGIN:VCALENDAR
VERSION:2.0
PRODID:-//wp-events-plugin.com//7.2.3.1//EN
TZID:America/Los_Angeles
X-WR-TIMEZONE:America/Los_Angeles
BEGIN:VEVENT
UID:5925@treglobal.org
DTSTART;TZID=America/New_York:20231118T100000
DTEND;TZID=America/New_York:20231119T170000
DTSTAMP:20230904T153052Z
URL:https://treglobal.org/event/tre-global-certification-training-module-1
 -with-lizzie-hearne-and-betsy-ross-monroe-north-carolina-usa-3/
SUMMARY:TRE™ Global Certification Training Module 1 with Lizzie Hearne an
 d Betsy Ross – [Monroe\, North Carolina-USA]
DESCRIPTION:\nTRE Provider Certification Training Series             
                                                  
                      with Betsy Ross and Lizzie Hearne\n\n\n\nM
 odule 1 classes have an in person or online option. Modules 2 and 3 in per
 son options willbe dependent on adequate number of participants.\n\n\n\n\n
  \n\n\n\n\n*Please note there is a pre-session/Intro class prior to start
  of Module 1\n\n\n\n\nModule 1:  *October 23rd                  
   6pm -8pm \n\n\n\n\n                       October 28th &a
 mp\; 29th       10- 5pm (Option 1)   \n\n\n\n\nOr\n\n\n\n\nModul
 e 1:  *November 13th                      6pm -8pm
  \n\n\n\n\n                      November 18th &amp\; 19th  
        10am- 5pm (Option 2)\n\n\n\n\nGroup Shake:  February 4th 
                     2pm – 4pm \n\n\n\n\nModule 2:  M
 arch 1st-3rd 2024          10am - 6pm\n\n\n\n\nModule 3:  July 12
 th-14th                    10am – 6pm\n\n\n\n\n*Modules must 
 be taken in order\n\n\n\n\nWhether you are joining us for Module 1 to lear
 n TRE\, to deepen your current practice\, or plan to take the entire TRE c
 ertification program\, welcome!  We want you to build a strong foundation
  in your own personal practice. Module 1 is all about YOU!\n\n\n\n\nBoth o
 f us come from different backgrounds and education to bring our experience
 s into the TRE world.  We want to bring a well-rounded view and training 
 program to our trainees. The number one aspect of learning in the TRE cert
 ification program is your own personal process\, and from there developing
  the ability to teach clients from a place of safety and presence.  Our f
 ocus is working with diversified bodies and giving you the confidence to m
 odify each exercise and the TRE process so everyBODY can do TRE.  We feel
  this is the heart of TRE- it’s for everyone!  All are able to access t
 heir own tremor\, they just need the understanding and self-regulation to 
 do so safely.  The goal of our program is to develop strong\, confident\,
  and nurturing providers.\n\n\n\n\nJoin us in discovering a deeper level o
 f yourself\, creating a social awareness\, and developing the skills to he
 lp people dealing with trauma and stress in our chaotic world.\n\n\n\n\nTr
 aining and Registration Information\n\n\n\n\nClick HERE for Full Details
 \n\n\n\n\nContact us:  everybodyneedstre@gmail.com\n\n
ATTACH;FMTTYPE=image/jpeg:https://treglobal.org/wp-content/uploads/2023/09
 /ENTRE-Logo-TFA-site-jpg-2.jpg
CATEGORIES:Certification Trainings
LOCATION:Restorative Healing\, 103 Winchester Ave\, Monroe\, NC\, 28110\, U
 nited States
X-APPLE-STRUCTURED-LOCATION;VALUE=URI;X-ADDRESS=103 Winchester Ave\, Monroe
 \, NC\, 28110\, United States;X-APPLE-RADIUS=100;X-TITLE=Restorative Heali
 ng:geo:0,0
END:VEVENT
BEGIN:VTIMEZONE
TZID:America/New_York
X-LIC-LOCATION:America/New_York
BEGIN:STANDARD
DTSTART:20231105T010000
TZOFFSETFROM:-0400
TZOFFSETTO:-0500
TZNAME:EST
END:STANDARD
END:VTIMEZONE
END:VCALENDAR