BEGIN:VCALENDAR
VERSION:2.0
PRODID:-//wp-events-plugin.com//7.2.3.1//EN
TZID:America/Los_Angeles
X-WR-TIMEZONE:America/Los_Angeles
BEGIN:VEVENT
UID:5923@treglobal.org
DTSTART;TZID=America/New_York:20231028T100000
DTEND;TZID=America/New_York:20231029T170000
DTSTAMP:20230904T152005Z
URL:https://treglobal.org/event/tre-global-certification-training-module-1
 -with-lizzie-hearne-and-betsy-ross-monroe-north-carolina-usa-2/
SUMMARY:TRE™ Global Certification Training Module 1 with Lizzie Hearne an
 d Betsy Ross – [Monroe\, North Carolina- USA]
DESCRIPTION:TRE Provider Certification Training Series              
                                                  
                     with Betsy Ross and Lizzie Hearne\nModule 1
  classes have an in person or online option. Modules 2 and 3 in person opt
 ions willbe dependent on adequate number of participants.\n \n*Please not
 e there is a pre-session/Intro class prior to start of Module 1\nModule 1:
   *October 23rd                    6pm -8pm \n          
              October 28th &amp\; 29th       10- 5pm (Option 1
 )   \nOr\nModule 1:  *November 13th                 
      6pm -8pm \n                      November 18th &amp\;
  19th         10am- 5pm (Option 2)\nGroup Shake:  February 4th 
                     2pm – 4pm \nModule 2:  March 1st
 -3rd 2024          10am - 6pm\nModule 3:  July 12th-14th     
                10am – 6pm\n*Modules must be taken in order\nWhet
 her you are joining us for Module 1 to learn TRE\, to deepen your current 
 practice\, or plan to take the entire TRE certification program\, welcome!
   We want you to build a strong foundation in your own personal practice.
  Module 1 is all about YOU!\nBoth of us come from different backgrounds an
 d education to bring our experiences into the TRE world.  We want to brin
 g a well-rounded view and training program to our trainees. The number one
  aspect of learning in the TRE certification program is your own personal 
 process\, and from there developing the ability to teach clients from a pl
 ace of safety and presence.  Our focus is working with diversified bodies
  and giving you the confidence to modify each exercise and the TRE process
  so everyBODY can do TRE.  We feel this is the heart of TRE- it’s for e
 veryone!  All are able to access their own tremor\, they just need the un
 derstanding and self-regulation to do so safely.  The goal of our program
  is to develop strong\, confident\, and nurturing providers.\nJoin us in d
 iscovering a deeper level of yourself\, creating a social awareness\, and 
 developing the skills to help people dealing with trauma and stress in our
  chaotic world.\nTraining and Registration Information\nClick HERE for Ful
 l Details\nContact us:  everybodyneedstre@gmail.com
ATTACH;FMTTYPE=image/jpeg:https://treglobal.org/wp-content/uploads/2023/09
 /ENTRE-Logo-TFA-site-jpg.jpg
CATEGORIES:Certification Trainings
LOCATION:Restorative Healing\, 103 Winchester Ave\, Monroe\, NC\, 28110\, U
 nited States
X-APPLE-STRUCTURED-LOCATION;VALUE=URI;X-ADDRESS=103 Winchester Ave\, Monroe
 \, NC\, 28110\, United States;X-APPLE-RADIUS=100;X-TITLE=Restorative Heali
 ng:geo:0,0
END:VEVENT
BEGIN:VTIMEZONE
TZID:America/New_York
X-LIC-LOCATION:America/New_York
BEGIN:DAYLIGHT
DTSTART:20230312T030000
TZOFFSETFROM:-0500
TZOFFSETTO:-0400
TZNAME:EDT
END:DAYLIGHT
END:VTIMEZONE
END:VCALENDAR