BEGIN:VCALENDAR
VERSION:2.0
PRODID:-//wp-events-plugin.com//7.2.3.1//EN
TZID:America/Los_Angeles
X-WR-TIMEZONE:America/Los_Angeles
BEGIN:VEVENT
UID:5940@treglobal.org
DTSTART;TZID=Europe/Stockholm:20240601T093000
DTEND;TZID=Europe/Stockholm:20240602T173000
DTSTAMP:20240403T151204Z
URL:https://treglobal.org/event/tre-global-certification-training-module-1
 -stockholm-sweden/
SUMMARY:TRE™ Global Certification Training - Module 1 - (Stockholm\, Swed
 en)
DESCRIPTION:English information below Swedish. \nDenna 2-dagars kursen är
  öppen för alla – inga förkunskaper krävs.\n\nVi är glada att kunna
  bjuda in till en 2-dagars kurs med fokus på själv-läkande och själv-u
 tveckling med TRE™. Helgen kommer innehålla mycket praktik och övninga
 r. Kursen är öppen för alla  – med eller utan terapeutisk bakgrund. 
 Du kan använda kursen enbart för din egen personliga utveckling eller v
 älja att fortsätta med certifierings-processen för att kunna jobba med 
 TRE™.\n\nMål\nAtt fördjupa din egen personliga process med TRE™ samt
  att stödja dig i upplevelsen av skakningarna. Varje förmiddag och efter
 middag kommer du att få utöva TRE™. Vi kommer varva praktiken med teor
 in bakom metoden.\n\nModul 1 kommer bl. a. innehålla:\n\n 	Introduktion t
 ill TRE™.\n 	Introduktion och fördjupning av den egna skak-upplevelsen
 .\n 	Anatomin\, neurologin och fysiologin av stress och trauma som det sam
 mankopplas till  TRE™.\n 	Förståelsen av skak-mekanismen.\n 	Hur för
 svarsmekanismen kopplas till TRE™.\n 	Strategier för själv-reglering i
 nom TRE™\n\nHur vi arbetar\nUnder dagarna kommer det finnas mycket tid f
 ör diskussion samt delning av den egna upplevelsen.  Varje dag kommer du
  få utöva TRE™ två gånger.\n\nMer information om kursen:\nDeva Laya 
 Guleng TREtraining (at) TRE-online.com\nwww.omnibalance.se\nwww.TRE-onlin
 e.com\n\nBoka din plats senast 4 veckor innan kursstart\n\nDatum och tider
 :\nModul I\n(Öppen för alla)\nLördag\, 1 juni 2024\, 9:30 -17.30 (Lunch
  paus ca. 13.00-14.30)\nSöndag\, 2 juni 2024\, 9:30 -17.30(Lunch paus ca.
  12.30-14.00)\n\nModul II &amp\; III\nMod 2: prel. datum  sept  2024 (fr
 e kväll endast)\nMod 3: prel. datum jan 2025 (fre kväll endast)\n(du må
 ste kunna delta dessa båda moduler om du önskar att certifiera dig till 
 TRE™ Provider för att kunna lära ut TRE™ till andra. Om du av någon
  anledning inte kan dessa datum\, men redan nu planerar genomföra certifi
 eringen\, vänligen kontakta oss för att hitta en lösning som funkar bå
 da parter)\n\nLokal för Modul I:\n“Granen”\, Mötesrum\, Luntmakargat
 an 52\, Stockholm (nearby metro stop “Rådmangatan”)\n\nKursledare\nDe
 va Laya Guleng\, TRE™ Certification Trainer\nmed assistenter\n\nKurskost
 nad:\n340 EUR för Modul 1\nEarly bird rabatt Modul 1\, När bokning och b
 etalning görs senast 15:a april 2024 \; 280 EUR.\n\nFör att fortsätta m
 ed certifierings-processen för att kunna lära ut TRE™ till andra\, beh
 över du kunna delta i Modul II/III kopplat till den Modul I du har anmäl
 t dig till. Det tillkommer kostnader för obligatorisk handledning (superv
 ision) samt kurslitteratur/media. Certifierings-processen måste fullfölj
 as inom loppet av 12-18 månader från du startade Modul I. För fullstän
 diga certifierings-krav\, lär mer här.\n\n&nbsp\;\n\nThis training is op
 en to anyone. The training will be given in English if participants from 
 abroad\n\nThis training can be taken on-site only.\n\n3 x 2 day training f
 ormat\n\nModule I\n(Open to anyone)\nSaturday\, June 1st\, 9:30 am - 5.30 
 pm (Lunch break approx. 13.00-2.30 pm)\nSunday\, June 2nd\, 9:30 am - 5.30
  pm (Lunch break approx. 12.30-2.00 pm)\nRegister here\n\nModule II &amp\;
  III\nMod II: prel. weekend\, dates Sept 2024 (Friday evening only)\nMod I
 II: prel. weekend\, dates Jan 2025 (Friday evening only)\n\n\n(you’ll ne
 ed to be able to attend these dates if you wish to proceed to be certified
  as TRE™ Provider – if you for some reason have no possibility to atte
 nd these dates and wish to proceed with certification\, please contact us)
  \n\nMore information &amp\; registration:\nDeva Laya Guleng TREtraining
  (at) tre-online.com\nRegister here\n\nVenue Module I:\n“Granen”\, Mö
 tesrum\, Luntmakargatan 52\, Stockholm (nearby metro stop “Rådmangatan
 ”)\n\nFacilitator:\nDeva Laya Guleng\, TRE™ Certification Trainer\nwit
 h assistants\n\nCosts:\n€ 340\,- for module 1.\nEarly bird discount Modu
 le I\, when booking &amp\; payment  is completed by April 15th 2024\, €
  280\,- (3000 SEK)\n\nTo continue with certification towards a TRE™ Prov
 ider\, you will need to attend the Module II connected to the Module I you
  subscribe to.  Additional costs will apply for required supervision sess
 ions and literature/media.  The certification process is normally complet
 ed within 12-18 months from start of Module 1.  For complete certificatio
 n requirements\, please read more here.\n\n \n\n\n\n\n
CATEGORIES:Certification Trainings,Intro Workshops / Recurring Classes /
 Online Events
LOCATION:Granen\, Mötesrum\, Luntmakargatan 52\, Stockholm\, Sweden
GEO:59.3402728;18.060929699999974
X-APPLE-STRUCTURED-LOCATION;VALUE=URI;X-ADDRESS=Luntmakargatan 52\, Stockho
 lm\, Sweden;X-APPLE-RADIUS=100;X-TITLE=Granen\, Mötesrum:geo:59.3402728,1
 8.060929699999974
END:VEVENT
BEGIN:VTIMEZONE
TZID:Europe/Stockholm
X-LIC-LOCATION:Europe/Stockholm
BEGIN:DAYLIGHT
DTSTART:20240331T030000
TZOFFSETFROM:+0100
TZOFFSETTO:+0200
TZNAME:CEST
END:DAYLIGHT
END:VTIMEZONE
END:VCALENDAR