BEGIN:VCALENDAR
VERSION:2.0
PRODID:-//wp-events-plugin.com//7.2.3.1//EN
TZID:America/Los_Angeles
X-WR-TIMEZONE:America/Los_Angeles
BEGIN:VEVENT
UID:6053@treglobal.org
DTSTART;TZID=Europe/London:20250125T090000
DTEND;TZID=Europe/London:20250125T171500
DTSTAMP:20241014T100552Z
URL:https://treglobal.org/event/tre-global-certification-training-module-1
 -sevenoaks-kent-uk/
SUMMARY:TRE™ Global Certification Training Module 1 - Two Day In-Person T
 raining in Sevenoaks\, Kent\, UK
DESCRIPTION:TRE Module 1 - "Embodied Mastery" with Kate Munden TRE Certific
 ation Trainer\n\n"The most wonderful\, life-changing experience which must
  be felt to be believed"\n\nJoin us in Sevenoaks\, Kent\, in January and b
 egin your TRE Training journey. In this two day exploration in to the basi
 cs of TRE Trauma Releasing Exercises you will be fully introduced to TRE P
 ractice and how it can help you release accumulated tension and trauma fro
 m your body\, promoting deep relaxation and emotional well-being.\n\nThe c
 ore practice elements are: Containment\, Grounding\, Co-regulation\, S
 elf-regulation and Dissociation in relation to TRE.\n\nCore Theory element
 s are: exploration of types of trauma and toxic stress\, how trauma effect
 s the body and the neurology of the stress response - fight\, flight and f
 reeze.\n\nThere will be plenty of time to explore the tremor mechanism in 
 safety and to deepen into personal TRE practice\, with space for questions
  and discussion.\n\nThis Module is open to all who are interested in TRE f
 or themselves\, but is particularly valuable for therapists and wellbeing 
 professionals looking to expand their practice stills and develop effectiv
 e self care so that you can continue to support your clients with clarity 
 and compassion.\n\nThis is the first Module of 3 (with ongoing Supervision
 ) for those wishing to become Certified TRE Providers.\n\nFor more informa
 tion about the full training programme please take a look HERE    To dis
 cuss contact info@katemunden.com\n2025 Programme Module/Supervision Dates:
 \nOnline Mod 1 Supervision Groups 9-11am 8 Feb and 22 March 2025\nModule 2
  in-person Training 26/27 April 25  "Polyvagal Pathways"\nOnline Mod 2 S
 upervision Groups 9-11am 24 May and 21 June 2025\n\nModule 3 in-person Tra
 ining 6/7 September 25 "Global Resonance"\nOnline Supervision Groups 9-1
 1am 11 October and 15 Nov 2025\n"Completing Module 1 of the TRE Training P
 rogramme was\, quite simply\, astonishing. Having lived for years and year
 s in a high state of anxiety and stress\, my nervous system was stuck in 
 ‘I’m under attack mode’ and as such\, my mind couldn’t function ef
 fectively. My life was so limited by the dissociative state that I was liv
 ing in. I couldn’t make decisions\, I was numb\, I wasn’t living – j
 ust existing day to day. I felt hopeless and sad all the time. \n\nAfter 
 just one TRE shaking session\, the change in me was unbelievable. It was a
 s if I could feel the tension leaving my body – to be replaced by the mo
 st delicious sense of calm. As an intravenous injection travels all around
  your system – this too could be felt slowly replacing the cortisol that
  had been dominant for so long."\n\n&nbsp\;\n\nVenue: The beautiful Lime T
 ree Workshop in central Sevenoaks.\n\nLime Tree is easily accessible by Tr
 ain or Car from Central London\, Kent or Sussex. (At weekends parking is f
 ree in the centre of town)
ATTACH;FMTTYPE=image/jpeg:https://treglobal.org/wp-content/uploads/2024/05
 /Find-Clarity-in-Motion-reduced-size.jpg
CATEGORIES:Certification Trainings
LOCATION:Lime Tree Workshop\, 11 Lime Tree Walk\, Sevenoaks \, Kent\, TN13 
 1YH\, United Kingdom\, United Kingdom
X-APPLE-STRUCTURED-LOCATION;VALUE=URI;X-ADDRESS=11 Lime Tree Walk\, Sevenoa
 ks \, Kent\, TN13 1YH\, United Kingdom\, United Kingdom;X-APPLE-RADIUS=100
 ;X-TITLE=Lime Tree Workshop:geo:0,0
END:VEVENT
BEGIN:VTIMEZONE
TZID:Europe/London
X-LIC-LOCATION:Europe/London
BEGIN:STANDARD
DTSTART:20241027T010000
TZOFFSETFROM:+0100
TZOFFSETTO:+0000
TZNAME:GMT
END:STANDARD
END:VTIMEZONE
END:VCALENDAR