BEGIN:VCALENDAR
VERSION:2.0
PRODID:-//wp-events-plugin.com//7.2.3.1//EN
TZID:America/Los_Angeles
X-WR-TIMEZONE:America/Los_Angeles
BEGIN:VEVENT
UID:5813@treglobal.org
DTSTART;TZID=Europe/Oslo:20231025T090000
DTEND;TZID=Europe/Oslo:20231027T160000
DTSTAMP:20250508T145605Z
URL:https://treglobal.org/event/tre-global-certification-training-module-1
 -oslo-norway/
SUMMARY:TRE™ Global Certification Training Module 1  – Oslo\, Norway
DESCRIPTION:TRE-instruktørutdannelse i Oslo\, Bergen og Stavanger\nDu kan 
 også være med online.\nI Oslo\n\n 	Modul 1: Onsdag til fredag 25.-27. ok
 tober og modul 2: Onsdag til fredag 13.-15. desember 2023.\n\nI Bergen\n\n
  	Modul 1: Onsdag til fredag 14 – 16. juni og modul 2: Onsdag til fredag
  6 – 8. september 2023.\n\nI Stavanger\n\n 	Nye datoer kommer.\n\nNå ka
 n du ta instruktørutdannelse i Trauma Release Exercises – TRE™ – i 
 Oslo\, Bergen og Stavanger. Du kan også velge å følge utdanningen via Z
 oom fra der du befinner deg. Vi har erfaring for at dette fungerer veldig
  bra. Disse modulene går på dagtid fra kl. 09 – 16.\n\nVi har også TR
 E utdanning på Engelsk\, via Zoom. Her er det deltagere fra hele verden. 
 Tidspunktet er er fra kl. 17 – 21 norsk tid og kan passe også for norsk
 e deltagere som ikke kan delta på dagtid. Du kan lese mer om dette her.\
 n\nhttps://oppmerksombevegelse.no/tre-utdannelse/
ATTACH;FMTTYPE=image/jpeg:https://treglobal.org/wp-content/uploads/2023/03
 /tre-instructorutdannelse-.jpg
CATEGORIES:Intro Workshops / Recurring Classes / Online Events
LOCATION:Medisinsk Yoga og Mindfulness\, Dronningens gate 23\, Oslo\, 0154\
 , Norway
X-APPLE-STRUCTURED-LOCATION;VALUE=URI;X-ADDRESS=Dronningens gate 23\, Oslo\
 , 0154\, Norway;X-APPLE-RADIUS=100;X-TITLE=Medisinsk Yoga og Mindfulness:g
 eo:0,0
END:VEVENT
BEGIN:VTIMEZONE
TZID:Europe/Oslo
X-LIC-LOCATION:Europe/Oslo
BEGIN:DAYLIGHT
DTSTART:20230326T030000
TZOFFSETFROM:+0100
TZOFFSETTO:+0200
TZNAME:CEST
END:DAYLIGHT
END:VTIMEZONE
END:VCALENDAR