BEGIN:VCALENDAR
VERSION:2.0
PRODID:-//wp-events-plugin.com//7.2.3.1//EN
TZID:America/Los_Angeles
X-WR-TIMEZONE:America/Los_Angeles
BEGIN:VEVENT
UID:5814@treglobal.org
DTSTART;TZID=Europe/Oslo:20230614T090000
DTEND;TZID=Europe/Oslo:20230616T160000
DTSTAMP:20230307T192904Z
URL:https://treglobal.org/event/tre-global-certification-training-module-1
 -oslo-norway-2/
SUMMARY:TRE™ Global Certification Training Module 1  – Bergen\, Norway
DESCRIPTION:TRE-instruktørutdannelse i Oslo\, Bergen og Stavanger\nDu kan 
 også være med online.\nI Oslo\n\n 	Modul 1: 25 til 27. januar og modul 2
 : 15 til 17. mars 2023.\n 	Modul 1: 24 til 26. mai. og modul 2: 23 til 25 
 august 2023.\n\nI Bergen\n\n 	Modul 1: 14 til 16. juni 2023 og modul 2: da
 toer kommer.\n\nI Stavanger\n\n 	Modul 1: 22 til 24. september og modul 2:
  17 til 19. november 2023.\n\nNå kan du ta instruktørutdannelse i Trauma
  Release Exercises – TRE™ – i Oslo\, Bergen og Stavanger. Du kan ogs
 å velge å følge utdanningen via Zoom fra der du befinner deg. Vi har e
 rfaring for at dette fungerer veldig bra. Disse modulene går på dagtid f
 ra kl. 09 – 16.\n\nVi har også TRE utdanning på Engelsk\, via Zoom. He
 r er det deltagere fra hele verden. Tidspunktet er er fra kl. 17 – 21 no
 rsk tid og kan passe også for norske deltagere som ikke kan delta på dag
 tid. Du kan lese mer om dette her.\n\nhttps://oppmerksombevegelse.no/tre-
 utdannelse/
ATTACH;FMTTYPE=image/jpeg:https://treglobal.org/wp-content/uploads/2023/03
 /tre-instructorutdannelse-.jpg
CATEGORIES:Certification Trainings,Online TRE® Certification Trainings
LOCATION:We Are Family YOGA\, Slettevikvegen 1\, Bergen\, 5124\, Hordaland\
 , Norway
X-APPLE-STRUCTURED-LOCATION;VALUE=URI;X-ADDRESS=Slettevikvegen 1\, Bergen\,
  5124\, Hordaland\, Norway;X-APPLE-RADIUS=100;X-TITLE=We Are Family YOGA:g
 eo:0,0
END:VEVENT
BEGIN:VTIMEZONE
TZID:Europe/Oslo
X-LIC-LOCATION:Europe/Oslo
BEGIN:DAYLIGHT
DTSTART:20230326T030000
TZOFFSETFROM:+0100
TZOFFSETTO:+0200
TZNAME:CEST
END:DAYLIGHT
END:VTIMEZONE
END:VCALENDAR