BEGIN:VCALENDAR
VERSION:2.0
PRODID:-//wp-events-plugin.com//7.2.3.1//EN
TZID:America/Los_Angeles
X-WR-TIMEZONE:America/Los_Angeles
BEGIN:VEVENT
UID:6106@treglobal.org
DTSTART;TZID=Europe/London:20250201T100000
DTEND;TZID=Europe/London:20250202T180000
DTSTAMP:20241120T163717Z
URL:https://treglobal.org/event/tre-global-certification-training-module-1
 -online-uk/
SUMMARY:TRE™ Global Certification Training Module 1  – Online\, UK
DESCRIPTION:Online TRE Certification Training with Deborah Brown and the Tr
 ain TRE Team.\n\nIn Module 1 will explore the key concepts of TRE\, Tensio
 n and Trauma Releasing Exercises. It is ideal for those wishing to learn a
 bout releasing stress\, anxiety or work with past trauma. It is also the f
 irst stage of the TRE Provider Process to teach TRE to others.\n\nWe will 
 explore embodying a sense of:\n\n- Understanding TRE and ‘The Tremor Mec
 hanism’\n- Learning to shake in a way that feels contained\, regulated a
 nd enjoyable\n- Exploring grounding in TRE as a felt sense within the body
 \n- Self-regulation and the importance of going slow\n- The neurophysiolog
 y of stress and trauma and how shaking 'reboots' the nervous system\n- Avo
 iding Freezing\, Flooding and Dissociation\n\nDates:\nModule 1 Online - 1s
 t &amp\; 2nd February 2025\nModule 2 Online - 22nd &amp\; 23rd March 2025\
 nModule 3 Online - 20th &amp\; 21st September 2025\n\n10am - 6pm daily\nOn
 line UK timezone (GMT)\n\nThe Provider Process training with Train TRE off
 ers ongoing support and personal development through connection and shared
  learning. This is a theme in the style of the training including group di
 scussion\, online group supervision and shaking together. TRE was meant fo
 r community.\n\nYou can complete the training in 10 - 18 months. The dates
  of the modules are spaced to facilitate completion within a year.\n\nWhat
 's Included:\n3 Online 2 x weekend Modules\nGroup Supervisions (3)\nOnline
  Group TRE Sessions with Trainees &amp\; TRE Providers run by a trainer/me
 ntor (3)\nSupervision Sessions with your key mentor and Certification Trai
 ner (12)\nFinal Certification Session with your Certification Trainer\n\nF
 or further information and booking visit www.deborah-brown.co.uk/train-in-
 tre
ATTACH;FMTTYPE=image/jpeg:https://treglobal.org/wp-content/uploads/2024/10
 /Bio-700.jpg
CATEGORIES:Online TRE® Certification Trainings
LOCATION:https://www.deborah-brown.co.uk/train-in-tre
END:VEVENT
BEGIN:VTIMEZONE
TZID:Europe/London
X-LIC-LOCATION:Europe/London
BEGIN:STANDARD
DTSTART:20241027T010000
TZOFFSETFROM:+0100
TZOFFSETTO:+0000
TZNAME:GMT
END:STANDARD
END:VTIMEZONE
END:VCALENDAR