BEGIN:VCALENDAR
VERSION:2.0
PRODID:-//wp-events-plugin.com//7.2.3.1//EN
TZID:America/Los_Angeles
X-WR-TIMEZONE:America/Los_Angeles
BEGIN:VEVENT
UID:6079@treglobal.org
DTSTART;TZID=America/New_York:20241102T100000
DTEND;TZID=America/New_York:20241103T170000
DTSTAMP:20240714T204943Z
URL:https://treglobal.org/event/tre-global-certification-training-module-1
 -online-or-monroe-north-carolina-usa-2/
SUMMARY:TRE™ Global Certification Training Module 1 - [Online OR Monroe\,
  North Carolina - USA]
DESCRIPTION:\n\nTRE Provider Certification Training Series           
                                                  
              with Betsy Ross and Lizzie Hearne\n\n\n\n\nModule 1 cl
 asses have an in person or online option. Modules 2 and 3 in person option
 s will be dependent on adequate number of participants.\n\n\n\n\n \n\n\n\
 n\n*Please note there is a pre-session/Intro class prior to start of Modul
 e 1\n\n\n\n\nModule 1:  *October 14th                       
        6pm -8pm \n\n\n\n\n                      October
  19th &amp\; 20th                 10- 5pm (Option 1)   \
 n\n\n\n\nOr\n\n\n\n\nModule 1:  *October 28th                  
            6pm -8pm \n\n\n\n\n                      N
 ovember 2nd &amp\; 3rd                10am- 5pm (Option 2)\n\
 n\n\n\nGroup Shake:  January 5th  2025                2pm – 4
 pm \n\n\n\n\nModule 2:  February 21st – 23rd  2025        10am 
 - 6pm\n\n\n\n\nModule 3:  June 27th – 29th 2025             
     10am – 6pm\n\n\n\n\n*Modules must be taken in order\n\n\n\n\nWhet
 her you are joining us for Module 1 to learn TRE\, to deepen your current 
 practice\, or plan to take the entire TRE certification program\, welcome!
   We want you to build a strong foundation in your own personal practice.
  Module 1 is all about YOU!\n\n\n\n\nBoth of us come from different backgr
 ounds and education to bring our experiences into the TRE world.  We want
  to bring a well-rounded view and training program to our trainees. The nu
 mber one aspect of learning in the TRE certification program is your own p
 ersonal process\, and from there developing the ability to teach clients f
 rom a place of safety and presence.  Our focus is working with diversifie
 d bodies and giving you the confidence to modify each exercise and the TRE
  process so everyBODY can do TRE.  We feel this is the heart of TRE- it
 ’s for everyone!  All can access their own tremor\, they just need the 
 understanding and self-regulation to do so safely.  The goal of our progr
 am is to develop strong\, confident\, and nurturing providers.\n\n\n\n\nJo
 in us in discovering a deeper level of yourself\, creating a social awaren
 ess\, and developing the skills to help people dealing with trauma and str
 ess in our chaotic world.\n\n\n\n\nTraining and Registration Information\n
 \n\n\n\nClick HERE for Full Details\n\n\n\n\nContact us:  everybodynee
 dstre@gmail.com\n\n
ATTACH;FMTTYPE=image/jpeg:https://treglobal.org/wp-content/uploads/2024/07
 /world-hands-small-for-TFA-1.jpg
CATEGORIES:Certification Trainings,Online TRE® Certification Trainings
LOCATION:Restorative Healing\, 103 Winchester Ave\, Monroe\, NC\, 28110\, U
 nited States
X-APPLE-STRUCTURED-LOCATION;VALUE=URI;X-ADDRESS=103 Winchester Ave\, Monroe
 \, NC\, 28110\, United States;X-APPLE-RADIUS=100;X-TITLE=Restorative Heali
 ng:geo:0,0
END:VEVENT
BEGIN:VTIMEZONE
TZID:America/New_York
X-LIC-LOCATION:America/New_York
BEGIN:DAYLIGHT
DTSTART:20240310T030000
TZOFFSETFROM:-0500
TZOFFSETTO:-0400
TZNAME:EDT
END:DAYLIGHT
BEGIN:STANDARD
DTSTART:20241103T010000
TZOFFSETFROM:-0400
TZOFFSETTO:-0500
TZNAME:EST
END:STANDARD
END:VTIMEZONE
END:VCALENDAR