BEGIN:VCALENDAR
VERSION:2.0
PRODID:-//wp-events-plugin.com//7.2.3.1//EN
TZID:America/Los_Angeles
X-WR-TIMEZONE:America/Los_Angeles
BEGIN:VEVENT
UID:5432@treglobal.org
DTSTART;TZID=America/New_York:20211009T100000
DTEND;TZID=America/New_York:20211010T160000
DTSTAMP:20210807T231525Z
URL:https://treglobal.org/event/tre-global-certification-training-module-1
 -north-carolina-usa/
SUMMARY:TRE™ Online Global Certification Training - Module 1 (North Carol
 ina\, USA)
DESCRIPTION:In our stressful world... Everyone Needs TRE!\nWe are looking f
 orward to working with you on your TRE® journey. Whether you are here for
  a deeper personal practice or interested in certification training\, we w
 ant to offer you a chance to learn not only about TRE® but about yourself
 . We will share our own experiences of growth\, while teaching you the kno
 wledge and tools to become confident in your own practice and develop your
  skills as a TRE® provider. From our own education and backgrounds\, our 
 focus is teaching that TRE® is for all\; no matter the life experiences\,
  physical condition or age.\nClass details/Meet your instructors\nModule 1
 :  10am - 4pm (EDT)\n\n 	Sunday\, October 9th  (online)\n 	Sunday\, Octo
 ber 10th  (online)\n\n\n*See our September training for alternate Module 
 1 dates.\n\nJoin us for a deeper understanding of TRE® and how it can hel
 p manage your own tension and stress levels. Whether you are brand new to 
 TRE® or already have an established practice\, this class is for you!\n\n
 Want to teach others? This is your first step to becoming a certified TRE
 ® provider.\n**You must complete the entire certification program before 
 leading anyone through the TRE process.\nModule 2:  10am -5pm (EST)\n\n 
 	Sunday\, November 14th         (online)\n 	Saturday\, November 20th 
     (live and/or online)\n 	Sunday\, November 21st         (live and
 /or online)\n\n*Live class will be held in Waxhaw\, NC near Charlotte.\nSt
 arting in this module\, your focus will change from your own personal prac
 tice to teaching others. Through lectures and experiential sessions\, you
  will learn to safely guide one person through the TRE® process\, individ
 ualizing the experience for each client.\n\nModule 3:    10am - 5pm (EST
 )\n\n 	Sunday\, January 23rd             (online)\n 	Saturday\, Janu
 ary 29th          (live and/or online)\n 	Sunday\, January 30th    
          (live and/or online)\n\n*Live class will be held in Waxhaw\, 
 NC near Charlotte.\nIn this final module you will learn how to teach and m
 anage a TRE® group.  As you will continue to learn through experiential 
 sessions\, this final chapter helps you pull all the pieces together. Afte
 r all the requirements are met\, you will be able of teach the beauty of T
 RE® to those in your world.\n\n**You must complete the entire certificati
 on program before leading anyone through the TRE process.\nClick Here to 
 Register\n&nbsp\;
ATTACH;FMTTYPE=image/jpeg:https://treglobal.org/wp-content/uploads/2021/07
 /848ffd07-ed16-40a1-80e4-fb3f1382d864-1.jpg
CATEGORIES:Online TRE® Certification Trainings
LOCATION:http://events.constantcontact.com/register/event?llr=dsda6yyab&oei
 dk=a07ei7jo11k7aa63c95
END:VEVENT
BEGIN:VTIMEZONE
TZID:America/New_York
X-LIC-LOCATION:America/New_York
BEGIN:DAYLIGHT
DTSTART:20210314T030000
TZOFFSETFROM:-0500
TZOFFSETTO:-0400
TZNAME:EDT
END:DAYLIGHT
END:VTIMEZONE
END:VCALENDAR