BEGIN:VCALENDAR
VERSION:2.0
PRODID:-//wp-events-plugin.com//7.2.3.1//EN
TZID:America/Los_Angeles
X-WR-TIMEZONE:America/Los_Angeles
BEGIN:VEVENT
UID:5965@treglobal.org
DTSTART;TZID=America/New_York:20240817T100000
DTEND;TZID=America/New_York:20240818T170000
DTSTAMP:20240112T233228Z
URL:https://treglobal.org/event/tre-global-certification-training-module-1
 -monroe-north-carolina-usa-8/
SUMMARY:TRE™ Global Certification Training Module 1  – [Online OR Monro
 e\, North Carolina - USA]
DESCRIPTION:TRE Provider Certification Training Series              
                                                  
           with Betsy Ross and Lizzie Hearne\nModule 1 classes have a
 n in person or online option. Modules 2 and 3 in person options will be de
 pendent on adequate number of participants.\n \n*Please note there is a p
 re-session/Intro class prior to start of Module 1\nModule 1:  *August 12t
 h                           6pm -8pm \n            
            August17th &amp\; 18th               10- 5pm (
 Option 1)   \nOr\nModule 1:  *September 16th                 
      6pm -8pm \n                      September 21st &amp\;
  22nd          10am- 5pm (Option 2)\nGroup Shake:  November 24th   
                2pm – 4pm \nModule 2:  January 10th  – 12th 
  2025       10am - 6pm\nModule 3:  May 23rd – 25th 2025.     
          10am – 6pm\n*Modules must be taken in order\nWhether you a
 re joining us for Module 1 to learn TRE\, to deepen your current practice\
 , or plan to take the entire TRE certification program\, welcome!  We wan
 t you to build a strong foundation in your own personal practice. Module 1
  is all about YOU!\nBoth of us come from different backgrounds and educati
 on to bring our experiences into the TRE world.  We want to bring a well-
 rounded view and training program to our trainees. The number one aspect o
 f learning in the TRE certification program is your own personal process\,
  and from there developing the ability to teach clients from a place of sa
 fety and presence.  Our focus is working with diversified bodies and givi
 ng you the confidence to modify each exercise and the TRE process so every
 BODY can do TRE.  We feel this is the heart of TRE- it’s for everyone!
   All can access their own tremor\, they just need the understanding and 
 self-regulation to do so safely.  The goal of our program is to develop s
 trong\, confident\, and nurturing providers.\nJoin us in discovering a dee
 per level of yourself\, creating a social awareness\, and developing the s
 kills to help people dealing with trauma and stress in our chaotic world.\
 nTraining and Registration Information\nClick HERE for Full Details\nCon
 tact us:  everybodyneedstre@gmail.com
ATTACH;FMTTYPE=image/jpeg:https://treglobal.org/wp-content/uploads/2024/01
 /ENTRE-Logo-TFA-site-jpg-8.jpg
CATEGORIES:Certification Trainings,Online TRE® Certification Trainings
LOCATION:Restorative Healing\, 103 Winchester Ave\, Monroe\, NC\, 28110\, U
 nited States
X-APPLE-STRUCTURED-LOCATION;VALUE=URI;X-ADDRESS=103 Winchester Ave\, Monroe
 \, NC\, 28110\, United States;X-APPLE-RADIUS=100;X-TITLE=Restorative Heali
 ng:geo:0,0
END:VEVENT
BEGIN:VTIMEZONE
TZID:America/New_York
X-LIC-LOCATION:America/New_York
BEGIN:DAYLIGHT
DTSTART:20240310T030000
TZOFFSETFROM:-0500
TZOFFSETTO:-0400
TZNAME:EDT
END:DAYLIGHT
END:VTIMEZONE
END:VCALENDAR