BEGIN:VCALENDAR
VERSION:2.0
PRODID:-//wp-events-plugin.com//7.2.3.1//EN
TZID:America/Los_Angeles
X-WR-TIMEZONE:America/Los_Angeles
BEGIN:VEVENT
UID:5963@treglobal.org
DTSTART;TZID=America/New_York:20240504T000000
DTEND;TZID=America/New_York:20240505T000000
DTSTAMP:20240112T233216Z
URL:https://treglobal.org/event/tre-global-certification-training-module-1
 -monroe-north-carolina-usa-7/
SUMMARY:TRE™ Global Certification Training Module 1  – [Online OR Monro
 e\, North Carolina - USA]
DESCRIPTION:TRE Provider Certification Training Series              
                                                  
           with Betsy Ross and Lizzie Hearne\nModule 1 classes have a
 n in person or online option. Modules 2 and 3 in person options will be de
 pendent on adequate number of participants.\n \n*Please note there is a p
 re-session/Intro class prior to start of Module 1\nModule 1:  *April 8th 
                       6pm -8pm \n                  
      April 13th &amp\; 14th        10- 5pm (Option 1)   \nOr\nM
 odule 1:  *April 29th                      6pm -8pm \n    
                   May 4th &amp\; 5th               10am
 - 5pm (Option 2)\nGroup Shake:  June 9th                    2pm
  – 4pm \nModule 2:  July 26th – 28th                10am - 6
 pm\nModule 3:  December 6th – 8th          10am – 6pm\n*Modules 
 must be taken in order\nWhether you are joining us for Module 1 to learn T
 RE\, to deepen your current practice\, or plan to take the entire TRE cert
 ification program\, welcome!  We want you to build a strong foundation in
  your own personal practice. Module 1 is all about YOU!\nBoth of us come f
 rom different backgrounds and education to bring our experiences into the 
 TRE world.  We want to bring a well-rounded view and training program to 
 our trainees. The number one aspect of learning in the TRE certification p
 rogram is your own personal process\, and from there developing the abilit
 y to teach clients from a place of safety and presence.  Our focus is wor
 king with diversified bodies and giving you the confidence to modify each 
 exercise and the TRE process so everyBODY can do TRE.  We feel this is th
 e heart of TRE- it’s for everyone!  All can access their own tremor\, t
 hey just need the understanding and self-regulation to do so safely.  The
  goal of our program is to develop strong\, confident\, and nurturing prov
 iders.\nJoin us in discovering a deeper level of yourself\, creating a soc
 ial awareness\, and developing the skills to help people dealing with trau
 ma and stress in our chaotic world.\nTraining and Registration Information
 \nClick HERE for Full Details\nContact us:  everybodyneedstre@gmail.co
 m\n&nbsp\;
ATTACH;FMTTYPE=image/jpeg:https://treglobal.org/wp-content/uploads/2024/01
 /ENTRE-Logo-TFA-site-jpg-6.jpg
CATEGORIES:Certification Trainings,Online TRE® Certification Trainings
LOCATION:Restorative Healing\, 103 Winchester Ave\, Monroe\, NC\, 28110\, U
 nited States
X-APPLE-STRUCTURED-LOCATION;VALUE=URI;X-ADDRESS=103 Winchester Ave\, Monroe
 \, NC\, 28110\, United States;X-APPLE-RADIUS=100;X-TITLE=Restorative Heali
 ng:geo:0,0
END:VEVENT
BEGIN:VTIMEZONE
TZID:America/New_York
X-LIC-LOCATION:America/New_York
BEGIN:DAYLIGHT
DTSTART:20240310T030000
TZOFFSETFROM:-0500
TZOFFSETTO:-0400
TZNAME:EDT
END:DAYLIGHT
END:VTIMEZONE
END:VCALENDAR