BEGIN:VCALENDAR
VERSION:2.0
PRODID:-//wp-events-plugin.com//7.2.3.1//EN
TZID:America/Los_Angeles
X-WR-TIMEZONE:America/Los_Angeles
BEGIN:VEVENT
UID:5957@treglobal.org
DTSTART;TZID=America/New_York:20240120T100000
DTEND;TZID=America/New_York:20240121T170000
DTSTAMP:20240112T233148Z
URL:https://treglobal.org/event/tre-global-certification-training-module-1
 -monroe-north-carolina-usa-4/
SUMMARY:TRE™ Global Certification Training Module 1  – [Online OR Monro
 e\, North Carolina\, USA]
DESCRIPTION:\nTRE Provider Certification Training Series             
                                                  
            with Betsy Ross and Lizzie Hearne\nModule 1 classes have 
 an in person or online option. Modules 2 and 3 in person options will be d
 ependent on adequate number of participants.\n \n*Please note there is a 
 pre-session/Intro class prior to start of Module 1\nModule 1:  *January 1
 6th                    6pm -8pm \n                   
     January  20th &amp\; 21st       10- 5pm (Option 1)   \nOr\nM
 odule 1:  *February 12th                     6pm -8pm \n   
                    February 17th &amp\; 18th         10am- 5p
 m (Option 2)\nGroup Shake:  March 10th                     2pm
  – 4pm \nModule 2:  April 26th - 28th                  10am -
  6pm\nModule 3:  September 6th- 8th             10am – 6pm\n*Modu
 les must be taken in order\nWhether you are joining us for Module 1 to lea
 rn TRE\, to deepen your current practice\, or plan to take the entire TRE 
 certification program\, welcome!  We want you to build a strong foundatio
 n in your own personal practice. Module 1 is all about YOU!\nBoth of us co
 me from different backgrounds and education to bring our experiences into 
 the TRE world.  We want to bring a well-rounded view and training program
  to our trainees. The number one aspect of learning in the TRE certificati
 on program is your own personal process\, and from there developing the ab
 ility to teach clients from a place of safety and presence.  Our focus is
  working with diversified bodies and giving you the confidence to modify e
 ach exercise and the TRE process so everyBODY can do TRE.  We feel this i
 s the heart of TRE- it’s for everyone!  All can access their own tremor
 \, they just need the understanding and self-regulation to do so safely. 
  The goal of our program is to develop strong\, confident\, and nurturing 
 providers.\nJoin us in discovering a deeper level of yourself\, creating a
  social awareness\, and developing the skills to help people dealing with 
 trauma and stress in our chaotic world.\nTraining and Registration Informa
 tion\nClick HERE for Full Details\nContact us:  everybodyneedstre@gmai
 l.com\n\n
ATTACH;FMTTYPE=image/jpeg:https://treglobal.org/wp-content/uploads/2024/01
 /ENTRE-Logo-TFA-site-jpg.jpg
CATEGORIES:Certification Trainings,Online TRE® Certification Trainings
LOCATION:Restorative Healing\, 103 Winchester Ave\, Monroe\, NC\, 28110\, U
 nited States
X-APPLE-STRUCTURED-LOCATION;VALUE=URI;X-ADDRESS=103 Winchester Ave\, Monroe
 \, NC\, 28110\, United States;X-APPLE-RADIUS=100;X-TITLE=Restorative Heali
 ng:geo:0,0
END:VEVENT
BEGIN:VTIMEZONE
TZID:America/New_York
X-LIC-LOCATION:America/New_York
BEGIN:STANDARD
DTSTART:20231105T010000
TZOFFSETFROM:-0400
TZOFFSETTO:-0500
TZNAME:EST
END:STANDARD
END:VTIMEZONE
END:VCALENDAR