BEGIN:VCALENDAR
VERSION:2.0
PRODID:-//wp-events-plugin.com//7.2.3.1//EN
TZID:America/Los_Angeles
X-WR-TIMEZONE:America/Los_Angeles
BEGIN:VEVENT
UID:5818@treglobal.org
DTSTART;TZID=America/New_York:20230826T100000
DTEND;TZID=America/New_York:20230827T170000
DTSTAMP:20230310T165252Z
URL:https://treglobal.org/event/tre-global-certification-training-module-1
 -monroe-north-carolina-usa-3/
SUMMARY:TRE™ Global Certification Training Module 1 with Lizzie Hearne an
 d Betsy Ross  – [Monroe\, North Carolina- USA]
DESCRIPTION:TRE Provider Certification Training Series              
                                                  
                      with Betsy Ross and Lizzie Hearne\nModule 
 1 classes have an in person or online option. Modules 2 and 3 in person op
 tions willbe dependent on adequate number of participants.\n *Please note
  there is a pre-session/Intro class prior to start of Module 1\nModule 1: 
  *August 21st                   6pm -8pm \n        
                August 26th &amp\;27th       10- 5pm (Option 1
 )   \nOr\nModule 1:  *Septempber 18th                 
      6pm -8pm \n                      September 23rd &amp\
 ; 24th                        10am- 5pm (Option 2)\n
 Group Shake:  November 12th                     2pm 
 – 4pm \nModule 2:  December 1st – 3rd          10am - 6pm\nMo
 dule 3:  March 15th – 17th           10am – 6pm\n*Modules mu
 st be taken in order\n&nbsp\;\nWhether you are joining us for Module 1 to 
 learn TRE\, to deepen your current practice\, or plan to take the entire T
 RE certification program\, welcome!  We want you to build a strong founda
 tion in your own personal practice. Module 1 is all about YOU!\nBoth of us
  come from different backgrounds and education to bring our experiences in
 to the TRE world.  We want to bring a well-rounded view and training prog
 ram to our trainees. The number one aspect of learning in the TRE certific
 ation program is your own personal process\, and from there developing the
  ability to teach clients from a place of safety and presence.  Our focus
  is working with diversified bodies and giving you the confidence to modif
 y each exercise and the TRE process so everyBODY can do TRE.  We feel thi
 s is the heart of TRE- it’s for everyone!  All are able to access their
  own tremor\, they just need the understanding and self-regulation to do s
 o safely.  The goal of our program is to develop strong\, confident\, and
  nurturing providers.\nJoin us in discovering a deeper level of yourself\,
  creating a social awareness\, and developing the skills to help people de
 aling with trauma and stress in our chaotic world.\nTraining and Registrat
 ion Information\nClick HERE for Full Details\nContact us:  everybodyneed
 stre@gmail.com\n&nbsp\;
ATTACH;FMTTYPE=image/jpeg:https://treglobal.org/wp-content/uploads/2023/03
 /world-hands-small-for-TFA.jpg
CATEGORIES:Certification Trainings
LOCATION:Restorative Healing\, 103 Winchester Ave\, Monroe\, NC\, 28110\, U
 nited States
X-APPLE-STRUCTURED-LOCATION;VALUE=URI;X-ADDRESS=103 Winchester Ave\, Monroe
 \, NC\, 28110\, United States;X-APPLE-RADIUS=100;X-TITLE=Restorative Heali
 ng:geo:0,0
END:VEVENT
BEGIN:VTIMEZONE
TZID:America/New_York
X-LIC-LOCATION:America/New_York
BEGIN:DAYLIGHT
DTSTART:20230312T030000
TZOFFSETFROM:-0500
TZOFFSETTO:-0400
TZNAME:EDT
END:DAYLIGHT
END:VTIMEZONE
END:VCALENDAR