BEGIN:VCALENDAR
VERSION:2.0
PRODID:-//wp-events-plugin.com//7.2.3.1//EN
TZID:America/Los_Angeles
X-WR-TIMEZONE:America/Los_Angeles
BEGIN:VEVENT
UID:5811@treglobal.org
DTSTART;TZID=Europe/London:20230421T100000
DTEND;TZID=Europe/London:20230423T180000
DTSTAMP:20230307T113507Z
URL:https://treglobal.org/event/tre-global-certification-training-module-1
 -london-uk-with-cheda-mikic-tre-centre/
SUMMARY:TRE™ Global Certification Training Module 1  – [London\, UK] wi
 th Cheda Mikic\, TRE Centre
DESCRIPTION:The course will cover personal skills and work with individuals
 . The course is very practical and experiential.\nThe theory of a TRE™ m
 odel will be explored through the exercises\, tremors and other involuntar
 y and spontaneous movements. There will be lots of time for discussion and
  sharing of experiences.\nModule 1 will include:\n• TRE™ Concepts\n•
  Anatomy\, neurology and physiology of stress and trauma as it relates to 
 TRE™\n• Understanding the tremor response and involuntary body movemen
 ts\n• Introduction to the Triune brain theory\n• Introduction to the P
 olyvagal theory: How humans are always checking for safety.\n• Tremorgen
 esis\n• Containment\, Orientation and Grounding strategies - OMG concept
 s\n• Introduction to personal TRE™ tremoring experience.\n• Working 
 other individuals\n• Introduction to basic skills of working with indivi
 duals\n• Basic TRE™ Interventions (verbal and tactile interventions)\n
 • Post traumatic Growth\nThis TRE™ Module 1 workshop is open to everyo
 ne. You can attend to learn about using the tremors to support your own he
 alth. You will learn about being in your body and self regulating in respo
 nse to tension\, stress and trauma. You can attend the workshop as the sta
 rt of the process to teach TRE™ to individuals.\nTo learn more about the
  entire TRE Certification Program\, get in touch with Cheda: contact@trece
 ntre.com
CATEGORIES:Certification Trainings,Online TRE® Certification Trainings
LOCATION:London and Online\, London\, London\, United Kingdom
X-APPLE-STRUCTURED-LOCATION;VALUE=URI;X-ADDRESS=London\, London\, United Ki
 ngdom;X-APPLE-RADIUS=100;X-TITLE=London and Online:geo:0,0
END:VEVENT
BEGIN:VTIMEZONE
TZID:Europe/London
X-LIC-LOCATION:Europe/London
BEGIN:DAYLIGHT
DTSTART:20230326T020000
TZOFFSETFROM:+0000
TZOFFSETTO:+0100
TZNAME:BST
END:DAYLIGHT
END:VTIMEZONE
END:VCALENDAR