BEGIN:VCALENDAR
VERSION:2.0
PRODID:-//wp-events-plugin.com//7.2.3.1//EN
TZID:America/Los_Angeles
X-WR-TIMEZONE:America/Los_Angeles
BEGIN:VEVENT
UID:6074@treglobal.org
DTSTART;TZID=Europe/London:20250109T093000
DTEND;TZID=Europe/London:20250111T173000
DTSTAMP:20240702T161018Z
URL:https://treglobal.org/event/tre-global-certification-training-module-1
 -edinburgh-scotland-uk-3/
SUMMARY:TRE™ Global Certification Training - Module 1 (Edinburgh\, Scotla
 nd\, UK)
DESCRIPTION:Immerse yourself in the Revolutionary\, New Tension &amp\; Trau
 ma Release Exercises\n\nTestimonials – Edinburgh Training Module 1\n\n"F
 **g transformational" FL\, Edinburgh\n\n“I found all instructors and ass
 istant friendly\, approachable\, responsive and I felt safe and engaged (e
 xcept when asleep – but was also engaged by being encouraged that my sta
 te was okay and welcomed awake or asleep) Excellent.” LM\, Findhorn\n\n
 “…It was a very worthwhile course and I learned a lot. Thank you to yo
 u both for being engaging and ‘available’ teachers. Thanks” JD\, Edi
 nburgh\n\n“This was a brilliant 3 days and I learned a lot (more) about 
 myself” VM\, Edinburgh\n\nTimes: 9.30 to 5.30pm (earlier finish on last 
 day)\n\nVenue: St Columba's Church by the Castle\, Edinburgh EH1\n\nCost: 
 £325 early bird month before\, then £345\; deposit of £70 secures place
 \n\nBook NOW: please email Vicki - vicki@trescotland.com. We will request 
 the balance 3 weeks before the start date.\n\n3-Day Workshop is open to ev
 eryone. Whether you work with stressed or traumatized clients\, or if you 
 personally want to free yourself from tension. TRE is a self-help tool dev
 eloped by Dr David Berceli that is used successfully throughout the world.
  The course will be very practical. Each day you will be supported through
  the exercises and tremors\, including time for discussions and sharing of
  experiences. You will learn the theory of how trauma is held in the physi
 cal body and can be released by the body naturally with self-induced thera
 peutic tremors.\n\nParticipants will be introduced to TRE and the personal
  tremoring response.\nParticipants will understand the tremor response.\nP
 articipants will learn anatomy\, neurology and physiology of stress and tr
 auma as it relates to TRE\nParticipants will learn defense reactions\, con
 tainment\, and grounding strategies as they relate to TRE.\nParticipants w
 ill receive an introduction to the Polyvagal theory\n\nFor information vis
 it www.trescotland.com or email: vicki@trescotland.com.\n\nTRE Certificati
 on: If you want to be a Certified TRE Provider please read more at www.tr
 escotland.com or Certified TRE Provider. This workshop is Module 1 and is 
 the first part of the process to be accredited as a Certified TRE Provider
 .  Dates of M2 and information on the TRE Global training please email Vi
 cki.\n\nMore Testimonials\n\n‘really good\, informative\, fascinating\, 
 good preparation…… Really great combination of light humour and very d
 etailed knowledgeable responses to questions and clear explanation of TRE 
 made the whole learning experience enjoyable and easy to take in’\n\n‘
 Very good\, I loved the theory. Also the practice and the opportunity to f
 acilitate the process………. Great clarity\, alive\, great holding\, pr
 actical approach brings safety – good team’\n\n‘Very well structured
  so as to not overwhelm with information but allow group discussion and TR
 E time to be balanced…… Very supportive and friendly’\n\n‘Mixed\, 
 varied\, dynamic\, alive and kicking. A good combo of experiential and the
 ory. Challenging\, provocative and playful.’
ATTACH;FMTTYPE=image/jpeg:https://treglobal.org/wp-content/uploads/2021/04
 /David-Berceli-with-Vicki-Cook-TRE-Scotland-.jpg
CATEGORIES:Certification Trainings
LOCATION:St Columba's Church by the Castle\, 14 Johnston Terrace\, Edinburg
 h\, Edinburgh\, EH1 2PW\, Scotland\, United Kingdom
GEO:55.9484752;-3.195579500000008
X-APPLE-STRUCTURED-LOCATION;VALUE=URI;X-ADDRESS=14 Johnston Terrace\, Edinb
 urgh\, Edinburgh\, EH1 2PW\, Scotland\, United Kingdom;X-APPLE-RADIUS=100;
 X-TITLE=St Columba's Church by the Castle:geo:55.9484752,-3.19557950000000
 8
END:VEVENT
BEGIN:VTIMEZONE
TZID:Europe/London
X-LIC-LOCATION:Europe/London
BEGIN:STANDARD
DTSTART:20241027T010000
TZOFFSETFROM:+0100
TZOFFSETTO:+0000
TZNAME:GMT
END:STANDARD
END:VTIMEZONE
END:VCALENDAR