BEGIN:VCALENDAR
VERSION:2.0
PRODID:-//wp-events-plugin.com//7.2.3.1//EN
TZID:America/Los_Angeles
X-WR-TIMEZONE:America/Los_Angeles
BEGIN:VEVENT
UID:5989@treglobal.org
DTSTART;TZID=Europe/London:20240725T093000
DTEND;TZID=Europe/London:20240727T173000
DTSTAMP:20240702T161134Z
URL:https://treglobal.org/event/tre-global-certification-training-module-1
 -edinburgh-scotland-uk-2/
SUMMARY:TRE™ Global Certification Training - Module 1 (Edinburgh\, Scotla
 nd\, UK) FULL
DESCRIPTION:Immerse yourself in the Revolutionary\, New Tension &amp\; Trau
 ma Release Exercises\nTestimonials – Edinburgh Training\n\n"F**g transfo
 rmational" FL\, Edinburgh\n\n“I found all instructors and assistant frie
 ndly\, approachable\, responsive and I felt safe and engaged (except when 
 asleep – but was also engaged by being encouraged that my state was okay
  and welcomed awake or asleep) Excellent.” LM\, Findhorn\n\n“…It was
  a very worthwhile course and I learned a lot. Thank you to you both for b
 eing engaging and ‘available’ teachers. Thanks” JD\, Edinburgh\n\n
 “This was a brilliant 3 days and I learned a lot (more) about myself” 
 VM\, Edinburgh\n\nDates: Thursday 25th to Saturday 27th July 2024\, 9.30 t
 o 5.30pm (earlier finish Sunday)\n\nVenue: St Columba's Church by the Cast
 le\, Edinburgh EH1\n\nCost: £325 early bird month before\, then £345\; d
 eposit of £70 secures place\n\nBook NOW: please email Vicki - vicki@tresc
 otland.com. We will request the balance 3 weeks before the start date.\n\n
 3-Day Workshop is open to everyone. Whether you work with stressed or trau
 matised clients\, or if you personally want to free yourself from tension.
  TRE is a self-help tool developed by Dr David Berceli that is used succes
 sfully throughout the world. The course will be very practical. Each day y
 ou will be supported through the exercises and tremors\, including time fo
 r discussions and sharing of experiences. You will learn the theory of how
  trauma is held in the physical body and can be released by the body natur
 ally with self-induced therapeutic tremors.\n\nParticipants will be introd
 uced to TRE and the personal tremoring response.\nParticipants will unders
 tand the tremor response.\nParticipants will learn anatomy\, neurology and
  physiology of stress and trauma as it relates to TRE\nParticipants will l
 earn defence reactions\, containment\, and grounding strategies as they re
 late to TRE.\nParticipants will receive an introduction to the Poly-vagal 
 theory\n\nFor information email: vicki@trescotland.com.\n\nTRE Certificati
 on: If you want to be a Certified TRE Provider please read more at www.tr
 escotland.com or Certified TRE Provider. This workshop is Module 1 and is 
 the first part of the process to be accredited as a Certified TRE Provider
 .  Dates of M2 will be finalised with those who wish to train.\n\nMore Te
 stimonials\n\n‘really good\, informative\, fascinating\, good preparatio
 n…… Really great combination of light humour and very detailed knowled
 geable responses to questions and clear explanation of TRE made the whole 
 learning experience enjoyable and easy to take in’\n\n‘Very good\, I l
 oved the theory. Also the practice and the opportunity to facilitate the p
 rocess………. Great clarity\, alive\, great holding\, practical approac
 h brings safety – good team’\n\n‘Very well structured so as to not o
 verwhelm with information but allow group discussion and TRE time to be ba
 lanced…… Very supportive and friendly’\n\n‘Mixed\, varied\, dynami
 c\, alive and kicking. A good combo of experiential and theory. Challengin
 g\, provocative and playful.’
ATTACH;FMTTYPE=image/jpeg:https://treglobal.org/wp-content/uploads/2021/04
 /David-Berceli-with-Vicki-Cook-TRE-Scotland-.jpg
CATEGORIES:Certification Trainings
LOCATION:St Columba's Church by the Castle\, 14 Johnston Terrace\, Edinburg
 h\, Edinburgh\, EH1 2PW\, Scotland\, United Kingdom
GEO:55.9484752;-3.195579500000008
X-APPLE-STRUCTURED-LOCATION;VALUE=URI;X-ADDRESS=14 Johnston Terrace\, Edinb
 urgh\, Edinburgh\, EH1 2PW\, Scotland\, United Kingdom;X-APPLE-RADIUS=100;
 X-TITLE=St Columba's Church by the Castle:geo:55.9484752,-3.19557950000000
 8
END:VEVENT
BEGIN:VTIMEZONE
TZID:Europe/London
X-LIC-LOCATION:Europe/London
BEGIN:DAYLIGHT
DTSTART:20240331T020000
TZOFFSETFROM:+0000
TZOFFSETTO:+0100
TZNAME:BST
END:DAYLIGHT
END:VTIMEZONE
END:VCALENDAR