BEGIN:VCALENDAR
VERSION:2.0
PRODID:-//wp-events-plugin.com//7.2.3.1//EN
TZID:America/Los_Angeles
X-WR-TIMEZONE:America/Los_Angeles
BEGIN:VEVENT
UID:5858@treglobal.org
DTSTART;TZID=America/Edmonton;VALUE=DATE:20230922
DTEND;TZID=America/Edmonton;VALUE=DATE:20230925
DTSTAMP:20230512T194904Z
URL:https://treglobal.org/event/tre-global-certification-training-module-1
 -calgary-alberta-canada-2/
SUMMARY:TRE™ Global Certification Training Module 1  – Calgary\, Albert
 a\, Canada
DESCRIPTION:https://www.eventbrite.ca/e/tension-releasing-exercises-tre-mod
 ule-1-for-personal-practice-tickets-627761881687\n\n&nbsp\;\n\n&nbsp\;
CATEGORIES:Certification Trainings
LOCATION:Vecova\, 3304 33 St NW\, Calgary\, Alberta\, Canada
X-APPLE-STRUCTURED-LOCATION;VALUE=URI;X-ADDRESS=3304 33 St NW\, Calgary\, A
 lberta\, Canada;X-APPLE-RADIUS=100;X-TITLE=Vecova:geo:0,0
END:VEVENT
BEGIN:VTIMEZONE
TZID:America/Edmonton
X-LIC-LOCATION:America/Edmonton
BEGIN:DAYLIGHT
DTSTART:20230312T030000
TZOFFSETFROM:-0700
TZOFFSETTO:-0600
TZNAME:MDT
END:DAYLIGHT
END:VTIMEZONE
END:VCALENDAR