BEGIN:VCALENDAR
VERSION:2.0
PRODID:-//wp-events-plugin.com//7.2.3.1//EN
TZID:America/Los_Angeles
X-WR-TIMEZONE:America/Los_Angeles
BEGIN:VEVENT
UID:1458@treglobal.org
DTSTART;TZID=America/Los_Angeles:20160415T093000
DTEND;TZID=America/Los_Angeles:20160417T180000
DTSTAMP:20160104T041927Z
URL:https://treglobal.org/event/tre-global-certification-training-module-1
 -bucharest-romania/
SUMMARY:TRE Global Certification Training - Module 1 - Bucharest\, Romania
DESCRIPTION:We are happy to invite you to this Global Certification Trainin
 g\, centered around self-healing and self-development with TRE™ - Tensio
 n &amp\; Trauma Release Exercises.  New for 2015\, TRE\, LLC has adopted 
 a standardized Global Certification Training Program valid in 35 countries
 . The 3 days of Module 1 will be very practical and is open to anyone 
 – with or without a therapeutic background. The goal of Module 1 is to
  introduce you to the TRE™ or tremor mechanism\, and move through 6 x T
 RE™ experiences over the three days.  As you deepen into your personal
  process you will experience the different textures of vibration\, as well
  as a better understanding of the human organism’s experience of the tre
 mors. Each morning and afternoon session you will be supported through the
  exercises and we will explore the theory behind the model.Anatomy\, neuro
 logy and physiology of stress and trauma as it relates to TRE™Understand
 ing the tremor responseIntroduction to the Poly-vagal theoryDefence reacti
 ons as they relate to TRE™Containment and grounding strategiesIntroducti
 on to basic skills of working with individuals and groupsIntroduction to T
 RE™ and 6 tremoring experiences Cost per module €350.00 – include
 s 3 day Training and 6 TRE™ Group Sessions Cost per 1 hour Supervision 
 Session €35.00  - 15 - 20 hours required over Module 1 and Module 2 - 
 approxametly 9-12 months*Please note this does not include registration wi
 th TRE LLC - All trainees are required to register and enrol with TRE™LL
 C at a cost of $35.00 Fiona Leibowitz is a TRE™ (Tension &amp\; Trauma
  Releasing Exercises) Global Certification Trainer specializing in Sexual 
 Health. For 18 years she has been exploring dysfunctions of the body-mind 
 that may be causing aspects of imbalance in the body and in life. In her s
 essions\, workshops &amp\; retreats\, she offers powerful somatic practice
 s to reduce stress\, pain and other adverse affects of trauma.In addition 
 to TRE™\, Fiona practices and teaches Taoist Energy techniques and medi
 tations\, and has created ” Nectar – Sexual Wisdom &amp\; Alchemy”\
 , a practical\, safe and accessible programme\, practising the transfor
 mation of Jing Chi (sexual energy) for health and lifestyle benefits. She 
 has contributed to Marie Claire\, Cosmopolitan\, Shape \, Women's Health 
 and O Magazines\, and is currently in publication with her first book on
  "Healthy Sexual Secrets".  Please contact fiona.leibowitz@gmail.com o
 r go to www.treforlife.com for further information. 
CATEGORIES:Certification Trainings
LOCATION:Bucharest\, TBC\, Bucharest\, Romania
GEO:44.4267674;26.102538399999958
X-APPLE-STRUCTURED-LOCATION;VALUE=URI;X-ADDRESS=TBC\, Bucharest\, Romania;X
 -APPLE-RADIUS=100;X-TITLE=Bucharest:geo:44.4267674,26.102538399999958
END:VEVENT
BEGIN:VTIMEZONE
TZID:America/Los_Angeles
X-LIC-LOCATION:America/Los_Angeles
BEGIN:DAYLIGHT
DTSTART:20160313T030000
TZOFFSETFROM:-0800
TZOFFSETTO:-0700
TZNAME:PDT
END:DAYLIGHT
END:VTIMEZONE
END:VCALENDAR