BEGIN:VCALENDAR
VERSION:2.0
PRODID:-//wp-events-plugin.com//7.2.3.1//EN
TZID:America/Los_Angeles
X-WR-TIMEZONE:America/Los_Angeles
BEGIN:VEVENT
UID:5903@treglobal.org
DTSTART;TZID=Europe/Bratislava:20240201T093000
DTEND;TZID=Europe/Bratislava:20240203T173000
DTSTAMP:20230903T101418Z
URL:https://treglobal.org/event/tre-global-certification-training-module-1
 -bratislava-slovakia-3/
SUMMARY:TRE™ Global Certification Training - Module 1 (Bratislava\, Slova
 kia)
DESCRIPTION:Welcome to this 3-day TRE™ Module I – a weekend immersive i
 n Bratislava.\nThis training is open to anyone that has had at least one T
 RE™ experience with a certified Provider (or provider trainee in Trainin
 g).\n\nThe training will be given in English with interpretation into Slo
 vak.\n\nFor the 4th time we are starting a TRE™ Module-training in Slova
 kia. Module I can be used purely for deepening of own TRE™ process\, as 
 well as being the first step in the certification program moving towards b
 eing a Certified TRE™ Provider.\n\nThis training is centred around self-
 healing and self-development with TRE™. The weekend will be very practic
 al and is open to anyone – with or without a therapeutic background. You
  can take this training without committing to continue with the certificat
 ion process towards becoming a Certified TRE™ Provider.After this traini
 ng-weekend\, you will be able to use TRE™ for yourself as a self-help to
 ol\, as it teaches you all the theoretical foundations needed for good and
  safe personal practice.\n\nThe training will be taught by DevaLaya Guleng
 \, an international TRE™ Certification Trainer\, with several assistants
 \n\nGoal\nTo deepen your personal process and to help you experiencing the
  tremors. Each morning and afternoon session you will be supported through
  the exercises and tremors. We will explore the theory behind the model.\n
 \nModule 1 will include:\n\n 	Introduction to TRE™\n 	Introduction and d
 eepening of personal tremoring experience\n 	Anatomy\, neurology and phys
 iology of stress and trauma as it relates to TRE™\n 	Understanding the t
 remor response\n 	Introduction to the Polyvagal theory\n 	Defence reaction
 s as they relate to TRE™\n 	Containment and grounding strategies\n\nThe 
 way we work\nThere will be plenty of time for discussion and sharing of yo
 ur experiences. We will also guide you in developing your skills so you ca
 n begin to support other people through the exercises.\n\nDates and times:
 \n\n\nModule I\nThursday\, Feb 1 2024\, 9:30 AM-5:30 PM (Lunch break 1pm-2
 :30pm)\nFriday\, Feb 2 2024\, 9:30AM – 5:30 PM (Lunch break 1 pm- 2:30 p
 m)\nSaturday\, Feb 3 2024\, 9:30 AM – 5:00 PM (Lunch break 1 pm – 2:30
  pm)\n\nModule II/III\n(you’ll need to be able to attend these dates if 
 you wish to proceed towards being a certified TRE™ Provider – if you f
 or some reason have no possibility to attend these dates and wish to proce
 ed with certification\, please contact us)\nThe MII/MIII days are 3 full d
 ays as extra time needed when training is interpreted fully.\n\nMODULE II 
 (Preliminary dates)\nThursday\, May 9 2024\, 9:30 AM-5:30 PM (Lunch break 
 1pm-2:30pm)\nFriday\, May 10 20243\, 9:30AM – 5:30 PM (Lunch break 1 pm-
  2:30 pm)\nSaturday\, May 11 2024\, 9:30 AM – 5:00 PM (Lunch break 1 pm 
 – 2:30 pm)\n\nModule III (Preliminary dates)\nThursday\, Oct 3 2024\, 9:
 30 AM-5:30 PM (Lunch break 1pm-2:30pm)\nFriday\, Oct 4 2024\, 9:30AM – 5
 :30 PM (Lunch break 1 pm- 2:30 pm)\nSaturday\, Oct 5 2024\, 9:30 AM – 5:
 00 PM (Lunch break 1 pm – 2:30 pm)\n\nModule I prices :\nEARLY BIRD € 
 360 when full payment completed by Dec 12th\nFULL COST € 420  any booki
 ng and payment completed from Dec 13th 2023.\n\n\nTo continue with certifi
 cation towards a TRE™ Provider\, you have to attend 3-day Module II &amp
 \; III  connected to the Module I you sign up for. As the Training is int
 erpreted\, the MII/MIII will be 3 full days. Additional costs will apply f
 or required supervision sessions and literature/media.  The certification
  process is normally completed within 12-18 months from start of Module I.
   For complete certification requirements\, please read more here.\n\nReg
 istration:\nLimited spots available.\nRegistration form in Slovak will be 
 announced here\nRegistration form in English will be available soon\n\nVen
 ue:\nTBA\nPetržalka/Bratislava\, Slovakia\n\nOrganizer:\nJana Vyskočil -
  Certified TRE™ Provider\nEmail: rackovka@gmail.com\nContact phone numbe
 r: 00421908115425\nwebsite www.landan.eu\n\nFacilitators: \n\nDevaLaya Gu
 leng\, International TRE™ Certification Trainer\nwww.omnibalance.co\nwww
 .TRE-online.com\nwith assistants\n\nTREtraining@TRE-online.com\n\n&nbsp\;
CATEGORIES:Certification Trainings
LOCATION:TBA\, Petrzalka\, Bratislava\, Slovakia
X-APPLE-STRUCTURED-LOCATION;VALUE=URI;X-ADDRESS=Petrzalka\, Bratislava\, Sl
 ovakia;X-APPLE-RADIUS=100;X-TITLE=TBA:geo:0,0
END:VEVENT
BEGIN:VTIMEZONE
TZID:Europe/Bratislava
X-LIC-LOCATION:Europe/Bratislava
BEGIN:STANDARD
DTSTART:20231029T020000
TZOFFSETFROM:+0200
TZOFFSETTO:+0100
TZNAME:CET
END:STANDARD
END:VTIMEZONE
END:VCALENDAR