BEGIN:VCALENDAR
VERSION:2.0
PRODID:-//wp-events-plugin.com//7.2.3.1//EN
TZID:America/Los_Angeles
X-WR-TIMEZONE:America/Los_Angeles
BEGIN:VEVENT
UID:5916@treglobal.org
DTSTART;TZID=Europe/Bucharest;VALUE=DATE:20231013
DTEND;TZID=Europe/Bucharest;VALUE=DATE:20231015
DTSTAMP:20230817T173858Z
URL:https://treglobal.org/event/tre-global-certification-training-module-1
 -brasov-romania-teodora-buzioanu-and-fiona-soma/
SUMMARY:TRE™ Global Certification Training - MODULE 1 - Brasov\, Romania 
 - Teodora Buzioanu and Fiona Soma
DESCRIPTION:\n\n\n\n\n\n\n\n\n\n\n\n\n\n\n\n\n\n\n\n&nbsp\;\n\n\n\n\n\n\n\n
 &nbsp\;\n\nTe invitam alaturi de noi in aceasta profunda calatorie de hran
 ire a sistemului tau nervos  si de intalnire cu Mecanismul tau de Tremur 
 prin practica TRE™ sau Exercitii de Eliberare de Tensiuni/ Traume!  Ace
 st curs este deschis tuturor celor curiosi in ceea ce priveste modul natur
 al de eliberare de stres si traume\, cat si in ceea ce priveste sanatatea 
 lor somatica si capacitatea de auto-vindecare a propriului organism. De as
 emenea\, cursul se adreseaza si acelora dintre voi care va doriti sa deven
 iti Facilitatori TRE™ Certificati International (caz in care este necesa
 r sa completati si Modulul 2+3 de training).\n\nTRE™ sau Mecanismul de T
 remur este o practica somatica\, naturala ce sustine dezvoltarea si intret
 inerea unui sistem nervos sanatos si reglat. Este o excelenta unealta de i
 mpamantare pentru cei care lucreaza ca personal medical\, psihologi/ terap
 euti si in serviciile de urgenta (ambulanta\, politie\, pompieri\, salvato
 ri montani etc.) – cat si pentru oricine isi traieste propria viata cu s
 tres\, anxietate\, frica\, trauma sau TSPT (Tulburare de Stres Post-Trauma
 tic sau PTSD). Aceasta este o invitatie de a ne reconecta cu raspunsul mam
 alian intrinsec organismelor noastre: modul natural de a face fata provoca
 rilor\, adresand tot spectrumul: de la stresul zilnic si pana la a gestion
 a TSPT. Este o unealta excelenta de impamantare ce reduce eliberarea nesan
 atoasa de hormoni de stres\, astfel re-echilibrand aspectele homeostatice 
 ale organismului\, si promovand o viata mai plina de libertate si pace. Ac
 est mecanism este raspunsul exclusiv natural al organismelor noastre de a 
 adresa si re-organiza tiparele de stres si contractare musculara din corp\
 , si este o unealta perfecta pentru practicienii si profesorii de Yoga\, P
 ilates\, Dans\, Miscare\, Arte Martiale si altele.\n\n&nbsp\;\n\n\n\nAcest
  program de training experiential si exploratoriu este conceput pentru a-t
 i oferi o calatorie a  descoperirii si intelegerii sinelui\, si a capacit
 atii de auto-reglare a Mecanismului de Tremur evocat de TRE™\, cat si pe
 ntru a te ghida in a deveni un Facilitator Certificat al acestei metode so
 matice. Modulul 1 poate fi urmat ca si curs de Dezvoltare Personala sau ca
  si prim pas in Trainingul TRE™ de Certificare Globala. In ambele instan
 te\, programul iti ofera oportunitatea unei integrari profunde\, titrate\,
  sprijinite si sustinute a mecanismului tau de tremur intr-un cadru de sig
 uranta profunda.\n\n**Nota Bene: Odata obtinuta certificarea\, vei putea c
 onduce si tine spatiu pentru alti oameni pe masura ce parcurg calatoria de
  descoperire\, explorare si auto-reglare a acestui mecanism natural\, coda
 t genetic in organismele lor. Acest training are componente obligatorii ce
  trebuie indeplinite fata de care esti chemat(a) sa iti asumi responsabili
 tatea si participarea depline\, componente concepute pentru a-ti oferi sta
 tutul de Facilitator TRE™ Certificat si care vor fi discutate in cadrul
  Modulului 1. Simpla participare la primul modul nu te echipeaza si nu iti
  da dreptul de a oferi sesiuni altor persoane.** Acest program nu se adres
 eaza femeilor insarcinate.\n\n\n\n\nFacilitator si Trainer pentru Cursanti
  TRE™\, Teodora s-a nascut si locuieste in Romania si si-a inceput propr
 ia calatorie de descoperire a Mecanismului de Tremur in 2015. De-a lungul 
 anilor in care s-a dedicat explorarii vibratiei naturale a organismului\, 
 ea a initiat si a insotit sute de oameni din jurul lumii in a-si cunoaste 
 bio-inteligenta profund hranitoare si abundenta in cunoastere directa\, fi
 e in sesiuni private sau de grup\, fie in cadrul trainingurilor.\nIn pract
 ica sa\, Teodora ofera prezenta si vivacitatea ei tuturor celor care simti
 ti acea chemare interioara si dorinta de a descoperi versiunea voastra rea
 la\, ne-editata\, profund autentica &amp\; naturala ce se ascunde sub tipa
 rele defensive care au ajuns poate sa va defineasca. Apeland si la proprii
 le ei explorari cu miscarea in Dans\, Arte Martiale\, lucru cu Psoas-ul si
  cu Fascia\, ea este pasionata de organismul bio-inteligent si abilitatea 
 sa de a-si restabili ritmurile si fluxurile naturale ce sustin o viata inf
 loritoare\, si nu doar supravietuirea.\n\nPrin intermediul Mecanismului de
  Tremur evocat de TRE™\, Teodora va invita sa pasiti in Fiinta voastra a
 devarata si sa va reamintiti de Acasa. Acasa in pace interioara\, in centr
 ul natural-neutru al fiintei\, in vibratie si pulsatie autentice\, in inte
 lepciunea profunda a simturilor.\n\n\n\n\n\n\nMODULE DE TRAINING \n3 modu
 le a caror desfasurare v-o oferim mai jos:\n\n\n\n&nbsp\;\n\n•  Modulul
 ui 1: 14/15 Octombrie 2023– in persoana Brasovj\, România\n\nDeschis t
 uturor celor care vor sa isi cunoasca Mecanismul de Tremur\, fie pentru De
 zvoltare Personala\, fie ca prim pas in a deveni Facilitatori TRE™ Certi
 ficati\n\n– Investitie: €300.00 (contravaloare in RON la cursul BNR di
 n ziua platii)\n\n\n\n\n\n• Modulului 2: 2/3 Decembrie 2023 - ONLINE En
 glish\n\n• Modulul 2: 9/10 Decembrie 2023 - in persoana Bucharest\, Rom
 ânia \n\n– Investitie: €300.00 (contravaloare in RON la cursul BNR 
 din ziua platii)\n\n\n\n\n\n• Modulul 3 - TBC Martie 2024 - in persoana 
 Bucharest\, România \n\n• Modulului 3 : Martie 2024– TBC -  ON
 LINE English\n\n– Investitie: €300.00 (contravaloare in RON la cursul
  BNR din ziua platii)\n\n\n\n\n\n\n\n\n\n\n\n\n\n\n\n\n\nKronwell Hotel\, 
 7 Gării Bvd\, 500203 Brașov\, România\n\n\n\n\n\n\n\n\n\n\n&nbsp\;\n\n\
 n\n 	Anatomia\, neurologia si fiziologia stresului si traumei in legatura 
 cu TRE™\n 	Intelegerea raspunsului de tremur\n 	Introducere in Teoria Po
 livagala\n 	Introducere in Psoas\n 	Reactiile de aparare/ defensive in leg
 atura cu TRE™\n 	Strategii de continere si impamantare\n 	Introducere in
  mecanismul TRE™ si 4 experiente de tremur in grup\n\n\n\n\n\n\n€300 p
 entru 2 zile\n\n&nbsp\;\n\n\n&nbsp\;\n\n\nREASISTAREA &amp\; PARTICIPAREA 
 LA MODULE \n\nCursantii si Facilitatorii Certificati sunt incurajati sa r
 easiste la workshopurile TRE™ pentru propriul beneficiu si aprofundarea 
 intelegerii\, atat pe perioada trainingului cat si dupa certificare. Toti 
 cursantii si facilitatorii inscrisi pot parcurge modulele/ workshopurile d
 e 2/3 zile la un tarif redus de 50% din costul total. Reasistarea si parti
 ciparea din nou la modulele de training/ workshopuri reprezinta o cale de 
 aprofundarea a intelegerii si integrare a materialelor prezentate care est
 e de nepretuit. In plus\, reprezinta si un ajutor in facilitarea propriulu
 i mecanism de tremur in cadrul unui grup. Pe masura ce practica TRE™ con
 tinua sa se dezvolte\, noi informatii sunt adaugate in mod constant in cad
 rul modulelor/ workshopurilor – si mai stim si ca posibilitatea de a obs
 erva practica in cadrul unui grup este o modalitate benefica si foarte put
 ernica de adancire a intelegerii acestui proces. Daca iti doresti sa vii i
 n Audit/ Asistenta\, te rog contacteaz-o pe Teodora la treromania@gmail.co
 m\n\n\n\n\n\n\n\n
CATEGORIES:Certification Trainings,Online TRE® Certification Trainings
LOCATION:kronwell Hotel\, 7 Gării Bvd\, 500203 Brașov\, România\, Brasov
 \, Romania\, 500203\, Transylvania\, Romania
X-APPLE-STRUCTURED-LOCATION;VALUE=URI;X-ADDRESS=7 Gării Bvd\, 500203 Braș
 ov\, România\, Brasov\, Romania\, 500203\, Transylvania\, Romania;X-APPLE
 -RADIUS=100;X-TITLE=kronwell Hotel:geo:0,0
END:VEVENT
BEGIN:VTIMEZONE
TZID:Europe/Bucharest
X-LIC-LOCATION:Europe/Bucharest
BEGIN:DAYLIGHT
DTSTART:20230326T040000
TZOFFSETFROM:+0200
TZOFFSETTO:+0300
TZNAME:EEST
END:DAYLIGHT
END:VTIMEZONE
END:VCALENDAR