BEGIN:VCALENDAR
VERSION:2.0
PRODID:-//wp-events-plugin.com//7.2.3.1//EN
TZID:America/Los_Angeles
X-WR-TIMEZONE:America/Los_Angeles
BEGIN:VEVENT
UID:6132@treglobal.org
DTSTART;TZID=America/Chicago:20250118T090000
DTEND;TZID=America/Chicago:20250119T160000
DTSTAMP:20241212T214051Z
URL:https://treglobal.org/event/tre-global-certification-training-mod-1-wi
 th-christine-in-person-onlne-%f0%9f%98%8a-wisconsin-usa/
SUMMARY:TRE™ Global Certification Training Mod 1 with Christine - IN PERS
 ON &amp\; ONLNE ????  (Wisconsin\, USA)
DESCRIPTION:Intro to TRE Workshop\n~a 2 Day workshop that cultivates laught
 er\, joy &amp\; play by bringing balance to your nervous system~\nJanuary 
 18 &amp\; 19 2025\nModule 1 - The Art and Science of TRE (for Personal Pra
 ctice)\nCourse Curriculum Includes: (but is not limited to) History of TRE
 ™\, Stress Scale\, Polyvagal Theory\, Self-Regulation\, Neurology of TRE
 ™\, The Anatomy of Trauma\, History of Tremors in the sciences\, ACE’s
  study\, Post Traumatic Growth and more ????\nPLUS M1 Independent Study \
 n\n 	• •\n\nthe remainder of the certification info ???? ⬇ ????\nA
 pril 5 &amp\; 6 2025\nModule 2 – Teaching TRE™ to One Person\nCourse C
 urriculum Includes: (but is not limited to) Review of TRE™\, How to Teac
 h TRE™\, The Nuance of Holding Space\, Boundaries\, Containment &amp\; S
 elf-Regulation/Co-regulation\, Attachment Theory\, Interventions and more 
 ????\nPLUS M2 Independent Study \n\n 	• •\n\nJune 28 &amp\; 29 2025\n
 Module 3 - Teaching TRE™ to Group (2 or more)\nCourse Curriculum Include
 s: (but is not limited to) Modifications of Template\, Chair Review\, All 
 exercises standing\, Fascia\, Group Dynamics\, Graduation and more ????\nP
 LUS M3 Independent Study \n\n 	• •\n\nCourse Materials to be Purchase
 d: (not included in training cost)\n\nBOOKS (available on Amazon or trauma
 prevention.com)\nThe Revolutionary Trauma Release Process by Dr. David Ber
 celi\nShake it Off Naturally by Dr. David Berceli\nOther? Possible additio
 n per trainers suggestions\n\nVIDEOS \nTRE Modifications:  Using the Chai
 r\nTRE Interventions: Touch and Non-Touch\nTRE Modifications: All Exercise
 s Standing\nTRE Modifications: Challenging Exercises\nOther? Possible addi
 tion per trainers suggestions\n\n\n\n\n\nPREREQUISITE\n\nOne TRE session w
 ith me or another Certified Provider\, proof required\n\nTIME INVESTMENT (
 ESTIMATED)\n40 hours live &amp\; online (cohort dependent) M1\, M2\, M3\n2
 0 hours Supervision\n20 hours Independent study per module\, varies from p
 erson to person(some may need more) 10 hours (check in\, accountability\, 
 supervision\, support)\n6 hours Supervision Clinics (3 sessions)\nAddition
 al time may be required for some\nAverage time to complete program 1 year\
 nProgram must be completed 2 years post Module 1 completion or training is
  forfeited\n\nNOTE - PLEASE READ THIS Additional Supervision may be requi
 red beyond the above mentioned 20 hours and is NOT included in the Financi
 al Investmentof $3700\n\nINTERNATIONAL STUDENTS\ncost is based on US$ and 
 conversion for international exchange calculated at registration\n\nFINANC
 IAL INVESTMENT\n$4000 USD\nPLUS\n$150 (average) Independent Study Material
 s (books\, videos\, not included in tuition) $110 TFA site\, Listing as a 
 Provider (not included in tuition)\nCost can vary based on additional trai
 ning needs of student\nFinancial Assistance Available\nFull Cost Breakdown
  provided upon request\n\nPAYMENT METHODS\nall major credit cards\n\nLEARN
  MORE\nchristinevarnavas.com\n\nREGISTER HERE\n\n&nbsp\;\n\n\n\n\n
ATTACH;FMTTYPE=image/jpeg:https://treglobal.org/wp-content/uploads/2024/12
 /christine-working-fave-TFA-site-1.jpg
CATEGORIES:Certification Trainings,Intro Workshops / Recurring Classes /
 Online Events,Online TRE® Certification Trainings
LOCATION:Kaleidoscope Wellness Center\, 1101 West Clairemont Avenue\, Suite
  1F\, Eau Claire\, Wi\, 54701\, United States
X-APPLE-STRUCTURED-LOCATION;VALUE=URI;X-ADDRESS=1101 West Clairemont Avenue
 \, Suite 1F\, Eau Claire\, Wi\, 54701\, United States;X-APPLE-RADIUS=100;X
 -TITLE=Kaleidoscope Wellness Center:geo:0,0
END:VEVENT
BEGIN:VTIMEZONE
TZID:America/Chicago
X-LIC-LOCATION:America/Chicago
BEGIN:STANDARD
DTSTART:20241103T010000
TZOFFSETFROM:-0500
TZOFFSETTO:-0600
TZNAME:CST
END:STANDARD
END:VTIMEZONE
END:VCALENDAR