BEGIN:VCALENDAR
VERSION:2.0
PRODID:-//wp-events-plugin.com//7.2.3.1//EN
TZID:America/Los_Angeles
X-WR-TIMEZONE:America/Los_Angeles
BEGIN:VEVENT
UID:1301@treglobal.org
DTSTART;TZID=America/Los_Angeles:20160111T000000
DTEND;TZID=America/Los_Angeles:20160113T000000
DTSTAMP:20150820T150031Z
URL:https://treglobal.org/event/tre-global-certification-training-koh-phan
 gan-thailand/
SUMMARY:TRE™ Global Certification Training -- Koh Phangan\, Thailand
DESCRIPTION:TRE™ Global Certification ProgrammeKoh Phangan\, Thailand We
  are happy to invite you to this Global Certification Training\, centered 
 around self-healing and self-development with TRE™ - Tension &amp\; Trau
 ma Release Exercises.  New for 2015\, TRE\, LLC has adopted a standardize
 d Global Certification Training Program valid in 35 countries.  The 3 da
 ys of Module 1 will be very practical and is open to anyone – with or wi
 thout a therapeutic background.  To continue with certification towards b
 ecoming a TRE™ Global Provider\, you will need to attend the Module II 
 Training beginning of March 2016\, or  go to  http://treglobal.org/event
 /categories/certification-trainings/  for other Module 2 trainings across
  the world in 2015/6. The goal of Module 1 is to introduce you to the TR
 E™ or tremor mechanism\, and move through 6 x TRE™ experiences over th
 e three days.  As you deepen into your personal process you will experie
 nce the different textures of vibration\, as well as a better understandin
 g of the human organism’s experience of the tremors. Each morning and af
 ternoon session you will be supported through the exercises and we will ex
 plore the theory behind the model. In Module 2 we go deeper into the theo
 ry of TRE™\, and add interventions and group work to the practical train
 ing.  After Module 2 you are required to complete case studies as well as
  engage in 15 - 20 hours in the supervision programme. For further details
  please go to http://treforlife.com/pages/module-1-2-information For tho
 se wishing to stay for the full 6 weeks between Module 1 and Module 2\, Fi
 ona has created a unique IMMERSION PROGRAMME designed for those wishing
  to deepen the PRACTICE\, UNDERSTANDING AND WISDOM OF TRE™ – Tension 
 &amp\; Trauma Release Exercises. You will get to experience or assist at a
  minimum of 2 TRE™ group classes/workshops per week\, as well as practic
 e with friends and fellow travellers. This is a very valuable addition to 
 the regular TRE™ training\, as you are encouraged to observe the mechan
 ism in real life with real people looking for forms of relaxation. During 
 this time\, you will be guided\, supported and supervised in going deepe
 r with your own practice\, and begin to understand the many textures of th
 is process.  This on-site training offers a deep and transformational jou
 rney\, whilst enjoying the beauty\, serenity and freedom on an island free
  from noise\, traffic and the daily stressors of our normal lives.  Perso
 nal reflective journaling is encouraged during this time. For further info
 rmation http://treforlife.com/pages/tre-global-certification-immersion-tr
 aining-koh-phangan-thailand Module 1Monday JANUARY 11th  2016 : 10:00 AM
  to 05:30 PMTuesday  JANUARY 12th  2016 : 10:00 AM to 05:30 PMWednesday 
 JANUARY 13th  2016 : 10:00 AM to 05:30 PM Module 2Wednesday MARCH 2nd\, 
 2015 : 10:00 AM to 05:30 PMThursday MARCH 3rd\, 2015 : 10:00 AM to 05:30 P
 MFriday MARCH 4th\, 2015 : 10:00 AM to 05:30 PM Investment Cost per modu
 le $550.00 – includes 3 day Training and 6 TRE™ Group supervised Sess
 ions8000 Bhart (Thai nationals only) Cost per 1 hour Supervision Session
  $120.00  - 15 - 20 hours required over the training period (9-12 months
 )1500 Bhart  (Thai Nationals only) *Please note this does not include re
 gistration with TRE LLC - All trainees are required to register and enrol 
 with TRE™LLC at a cost of $35.00 Trainer Fiona Leibowitz is a TRE™
  (Tension &amp\; Trauma Releasing Exercises) Global Certification Trainer 
 specializing in Sexual Health. For 18 years she has been exploring dysfunc
 tions of the body-mind that may be causing aspects of imbalance in the bod
 y and in life. In her sessions\, workshops &amp\; retreats\, she offers po
 werful somatic practices to reduce stress\, pain and other adverse affects
  of trauma.In addition to TRE™\, Fiona practices and teaches Taoist Ene
 rgy techniques and meditations\, and has created ” Nectar – Sexual Wi
 sdom &amp\; Alchemy”\, a practical\, safe and accessible programme\, p
 ractising the transformation of Jing Chi (sexual energy) for health and l
 ifestyle benefits. She has contributed to Marie Claire\, Cosmopolitan\, S
 hape \, Women's Health and O Magazines\, and is currently in publication
  with her first book on "Healthy Sexual Secrets". Fiona has worked\, shar
 ed and studied with some inspiring people including Master Mantak Chia\,
  Caroline Myss\, Bill Kauth\, Dr David Berceli In her practice she al
 so includes\, Chi Kung\, Chi Nei Tsang (Taoist  Visceral massage)\,Kin
 esiology\, Breath work\, and Craniosacral therapy. These approaches aim 
 to uncover deep seated blockages which may manifest as persistent health d
 ifficulties.Private TRE™ Sessions\, can be done in person\, or on Skype
 \, provided you have done TRE™ with a registered provider before. Skyp
 e Supervision Sessions are also available with Fiona\, if you are enrolle
 d on the Global Certification Training. Fiona is available for collaborat
 ion at retreats\, stress retreats\, detox retreats. She is also available
  for small groups (minimum 4) for TRE™ Certification Trainings. fiona.l
 eibowitz@gmail.com www.treforlife.com 
CATEGORIES:Certification Trainings
LOCATION:Koh Phangan\, Koh Phangan\, Koh Phangan\, Thailand
GEO:9.731875299999999;100.01359290000005
X-APPLE-STRUCTURED-LOCATION;VALUE=URI;X-ADDRESS=Koh Phangan\, Koh Phangan\,
  Thailand;X-APPLE-RADIUS=100;X-TITLE=Koh Phangan:geo:9.731875299999999,100
 .01359290000005
END:VEVENT
BEGIN:VTIMEZONE
TZID:America/Los_Angeles
X-LIC-LOCATION:America/Los_Angeles
BEGIN:STANDARD
DTSTART:20151101T010000
TZOFFSETFROM:-0700
TZOFFSETTO:-0800
TZNAME:PST
END:STANDARD
END:VTIMEZONE
END:VCALENDAR