BEGIN:VCALENDAR
VERSION:2.0
PRODID:-//wp-events-plugin.com//7.2.3.1//EN
TZID:America/Los_Angeles
X-WR-TIMEZONE:America/Los_Angeles
BEGIN:VEVENT
UID:5862@treglobal.org
DTSTART;TZID=Europe/Zagreb:20230929T000000
DTEND;TZID=Europe/Zagreb:20231001T000000
DTSTAMP:20230907T084243Z
URL:https://treglobal.org/event/tre-global-certification-training-in-engli
 sh-zagreb-croatia/
SUMMARY:TRE™ Global Certification Training (in English)  - Module 1 – Z
 agreb\, Croatia
DESCRIPTION:Module 1 of TRE Global Certification Training (in-person)\n\nTa
 ught in English - Croatian translation available upon request\n\nCertifica
 tion trainer: Riccardo Cassiani Ingoni\n\nFor info on all training dates a
 nd for booking please contact Vesna Krauth: vesnakrauth@yahoo.com
CATEGORIES:Certification Trainings
LOCATION:Zagreb city center\, details upon request\, Zagreb\, Croatia
X-APPLE-STRUCTURED-LOCATION;VALUE=URI;X-ADDRESS=details upon request\, Zagr
 eb\, Croatia;X-APPLE-RADIUS=100;X-TITLE=Zagreb city center:geo:0,0
END:VEVENT
BEGIN:VTIMEZONE
TZID:Europe/Zagreb
X-LIC-LOCATION:Europe/Zagreb
BEGIN:DAYLIGHT
DTSTART:20230326T030000
TZOFFSETFROM:+0100
TZOFFSETTO:+0200
TZNAME:CEST
END:DAYLIGHT
END:VTIMEZONE
END:VCALENDAR