BEGIN:VCALENDAR
VERSION:2.0
PRODID:-//wp-events-plugin.com//7.2.3.1//EN
TZID:America/Los_Angeles
X-WR-TIMEZONE:America/Los_Angeles
BEGIN:VEVENT
UID:5928@treglobal.org
DTSTART;TZID=Europe/Zagreb:20240301T000000
DTEND;TZID=Europe/Zagreb:20240303T000000
DTSTAMP:20230907T084137Z
URL:https://treglobal.org/event/tre-global-certification-training-in-engli
 sh-zagreb-croatia-2/
SUMMARY:TRE™ Global Certification Training (in English) - Module 2 – Za
 greb\, Croatia
DESCRIPTION:Module 2 of TRE Global Certification Training (in-person)\n\nTa
 ught in English - Croatian translation available upon request\n\nCertifica
 tion trainer: Riccardo Cassiani Ingoni\n\nFor info and booking please cont
 act Vesna Krauth: vesnakrauth@yahoo.com
CATEGORIES:Certification Trainings
LOCATION:Zagreb city center\, details upon request\, Zagreb\, Croatia
X-APPLE-STRUCTURED-LOCATION;VALUE=URI;X-ADDRESS=details upon request\, Zagr
 eb\, Croatia;X-APPLE-RADIUS=100;X-TITLE=Zagreb city center:geo:0,0
END:VEVENT
BEGIN:VTIMEZONE
TZID:Europe/Zagreb
X-LIC-LOCATION:Europe/Zagreb
BEGIN:STANDARD
DTSTART:20231029T020000
TZOFFSETFROM:+0200
TZOFFSETTO:+0100
TZNAME:CET
END:STANDARD
END:VTIMEZONE
END:VCALENDAR