BEGIN:VCALENDAR
VERSION:2.0
PRODID:-//wp-events-plugin.com//7.2.3.1//EN
TZID:America/Los_Angeles
X-WR-TIMEZONE:America/Los_Angeles
BEGIN:VEVENT
UID:5894@treglobal.org
DTSTART;TZID=Africa/Johannesburg;VALUE=DATE:20230930
DTEND;TZID=Africa/Johannesburg;VALUE=DATE:20231002
DTSTAMP:20230723T080305Z
URL:https://treglobal.org/event/tre-global-certification-training-2-day-se
 lf-exploration-workshop-online-fiona-soma-teodora-buzoianu/
SUMMARY:TRE™ Global Certification Training/ 2 Day Self Exploration Worksh
 op - ONLINE - Fiona Soma &amp\; Teodora Buzoianu
DESCRIPTION:\n\n\n\n\n\n\n\n\n\n\n\n\n\n\n\n\n\n&nbsp\;\nJoin this deep div
 e ONLINE\, into nurturing your nervous system\, an introduction into our T
 remor Mechanism and the practice of TRE™ or Tension/Trauma Release Exerc
 ises. This course is open to those who are curious about natural stress an
 d trauma release\, as well as somatic health and self healing. It is also 
 open to those who wish to become Internationally Certified TRE™ Practiti
 oners (2 extra modules).\nTRE™ or the Tremor Mechanism is a natural soma
 tic practice in growing and cultivating a healthy and regulated nervous sy
 stem. It is an excellent grounding tool for those working as medical perso
 nnel\, psychologists/therapists and first responders - or for anyone exper
 iencing stress\, anxiety\, fear\, trauma or PTSD in their own lives.  Thi
 s is an invitation to our most innate  mammalian response for mild daily 
 stress\, all the way to PTSD (Post Traumatic Stress Disorder). It is an ex
 cellent grounding tool that reduces the discharge of un-healthy stress hor
 mones\, bringing all aspects of the body back to balance and homeostasis\,
  allowing for a more free and peaceful existence.  This mechanism\, is th
 e body's most organic way of unravelling and re-organising contracted or t
 ight stress patterns in the body\, and is a perfect tool for practitioners
  and teachers of Yoga\, Pilates\, Dance\, Movement\, Martial Arts and more
 .\nThis programme offers the opportunity for a deep\, titrated\, supported
  and sustained integration of the tremor mechanism.\n\n*Please note - this
  programme is not suitable for pregnant women.\n\n\n\n\n\n\n\n\n\n&nbsp\;\
 n\n\n\nFiona has been a TRE™ Global Certification Trainer for 10 years\,
  moving around the world offering TRE™ in diversely traumatised communit
 ies.  In her Private Practice she specialises in Sexual Health and Relati
 onships with a focus on Addiction\, Attachment Styles\, Patterns and Trigg
 ers. She is passionate about the possibility of "Self-Healing" and promote
 s the movement from Co-Regulation to Self Regulation in her practice and h
 er work.\n\n&nbsp\;\n\nFiona encourages us to safely explore methods of mo
 vement and play with forms of resonance and vibration\, as a way of moving
  towards nourishing our nervous systems.  Through curiosity\, we are led 
 though simple\, yet healing processes that bring balance back to all body 
 systems.  In her practice she also includes\, Taoist Energy Work\, Kinesi
 ology\, Breath work\, Fascial Yoga and Craniosacral therapy. These approac
 hes assist in returning home to a healthy and happy body.\n\n&nbsp\;\n\n\n
 \nTeodora is a TRE™ Trainee Trainer based in Bucharest\, Romania. Drawin
 g on her experience with dance\, Martial Arts\, and climbing\, she is pass
 ionate about exploring the amazing possibilities of the human organism and
  its ability to restore natural rhythms and flow that support a life of th
 riving instead of merely surviving.\n\n&nbsp\;\n\nA perfectly imperfect hu
 man\, still on her own journey of hurting and healing\, expressing and fee
 ling\, Teodora is offering her guidance\, presence and aliveness in servic
 e to all of you who feel inside the possibility of uncovering your truest\
 , unedited\, authentic &amp\; natural selves that lie beneath the defence 
 strategies that you may have come to know yourselves as.\n\nShe is invitin
 g you to step out of doing and into your genuine Being\, and she is deeply
  grateful to witness and guide you on the journey back HOME. Home to your 
 undisturbed freedom\, to your neutral natural center of being\, to your yu
 mmy vibration and true pulsation\, to your silent stillness and deep wisdo
 m through the tremor mechanism evoked by TRE™.\n\n&nbsp\;\n\n\n\n&nbsp\;
 \n\n&nbsp\;\n\n\n\n&nbsp\;\n\n\n\nOnline - 30 September + 1 October 2023 
 [English]\n\n10.00am - 6.00pm CET\n\n&nbsp\;\n\n\n\nOnline - 25/26 Novemb
 er 2023  [English]\n\n10.00am - 6.00pm CET\n\nOR\n\nBucharest\, Romania
  9/10 December 2023 [English with presentations translated to Romanian]\n\
 n10.00am - 6.00pm RO\n\n&nbsp\;\n\n\n\nOnline - March 2024 TBC  [English
 ]\n\nBucharest - March 2024 TBC [English]\n\n&nbsp\;\n\n\n\n&nbsp\;\n\n\n\
 n- €300 per module [ 3 x 2 day modules] - €900 for all 6 teaching day
 s\n\n- €900 for 8 private supervision sessions with your mentor or train
 er\, plus 6 x 2.5  hour Group Sessions. \n\nPlease note this is the mini
 mum supervision hours\, and you may be required by your trainer or mentor 
 to do more supervision over the period of the training.\n\nTotal €1800.0
 0 per person for the training.  Please note this does not include registr
 ation fee with TRE for All [ €15-35 sliding scale] \n\n&nbsp\;\n\n\nRE 
 ATTENDING &amp\; ASSISTING AT MODULES\nTrainees and providers are encourag
 ed to re-attend TRE™ workshops for their own learning and benefit throug
 hout the certification training period and after. All enrolled trainees an
 d providers are able to re-attend 2/3 day modules/ workshops at a reduced 
 rate of 50%. Re-attending and assisting at modules/workshops is an invalua
 ble way to deepen your understanding and integration of the material prese
 nted\, as well as to help facilitate your own tremoring through practising
  in a group environment. As TRE™ grows\, we are constantly adding new in
 formation to the workshops/modules - we also know that observing the pract
 ice in a group is a very positive and powerful learning experience of this
  process. If you wish to Audit/Assist\, please contact Fiona fionasomaheal
 th@gmail.com\n\n#bestressfreewithtre\n www.treforlife.com\n\n\n\n\n\n\n&n
 bsp\;\n\n\n\n\nOUTLINE of the TRE™ Global Training Online 2023/2024 with
  Fiona Soma and Teodora Buzoianu\n&nbsp\;\n\nThis experiential and explora
 tory training programme is designed to take you through a journey of disco
 vering\, understanding and regulating for yourself the Tremor Mechanism ev
 oked through TRE™\, as well as guide you towards becoming a Facilitator 
 of this somatic exploration. This Module 1 can be for Self Development or 
 as the first step of your TRE® Global Certification Training.\n\nThere a
 re several mandatory components of this training programme that you are co
 mmitting to\,with full attendance\,designed towards providing you a Certif
 ied status as TRE™ Facilitator/ Provider\, which you can find outlined b
 elow. Once certified\, you will be able to lead and hold space for other p
 eople as they come to uncover\, explore and self- regulate this innate\, g
 enetically-encoded mechanism in their bodies. Full programme outline below
 \n\n\n\n\n\n\n\n\n\n\n**TRE™ denotes TRE’s registered trademark. Dr. D
 avid Berceli holds the Copyright\, Trademark and Service Mark (SM) for all
  TRE training materials and the TRE process. All rights to use are reserve
 d and TRE FOR ALL\, Inc (TFA) (NGO) holds distribution rights. Also protec
 ted are: Trauma Release Process SM\, Tension Release Process SM.\n\n\n\n\n
 \n\n\n\n\n\n\n\n
CATEGORIES:Online TRE® Certification Trainings
LOCATION:https://treforlife.com/pages/tre-global-certification-training-202
 3-online
END:VEVENT
BEGIN:VTIMEZONE
TZID:Africa/Johannesburg
X-LIC-LOCATION:Africa/Johannesburg
BEGIN:STANDARD
DTSTART:20220930T000000
TZOFFSETFROM:+0200
TZOFFSETTO:+0200
TZNAME:SAST
END:STANDARD
END:VTIMEZONE
END:VCALENDAR