BEGIN:VCALENDAR
VERSION:2.0
PRODID:-//wp-events-plugin.com//7.2.3.1//EN
TZID:America/Los_Angeles
X-WR-TIMEZONE:America/Los_Angeles
BEGIN:VEVENT
UID:6054@treglobal.org
DTSTART;TZID=Europe/Bucharest:20241004T100000
DTEND;TZID=Europe/Bucharest:20241004T180000
DTSTAMP:20240506T093833Z
URL:https://treglobal.org/event/tre-global-certification-1-year-programme-
 bucharest-romania-english/
SUMMARY:TRE™ Global Certification 1 Year Programme - Bucharest\, Romania 
 - English
DESCRIPTION:\n\n\n\n\n\n\n\n\n\n\n\n&nbsp\;\n\n\n\nWe invite you to this ON
 E year intensive certification Training in Tension and Trauma Releasing Ex
 ercises\, or TRE™.  The first part of the training is 6 Days [in real
  time] of intensive working together\, practising and attending lectures a
 nd demonstrations [over 2 weekends]. The second part of your certification
  includes case studies where you choose "practice clients' to observe and
  follow over a period of time.\n\n \n\nThe TRE™ Certification Process 
 consists of:\n\n 	Two X full three-day modules [6 days] in person\n 	Four 
 half day-Modules [ 4 x Saturday mornings during the year] online\n 	A pers
 onal Supervision Process online\n 	A committed embodied personal practice 
 that is journaled throughout the training period\n 	Peer Practice – mee
 ting with TRE™ trainees to lead and be led\n 	Reading\, listening to an
 d watching materials linked to your training + feedback Reports\n 	3 x Fi
 nal Certification Case Studies\n\n&nbsp\;\n\n- The certification time is 
 1 year starting at Module 1\n\n- Module 2 begins 3-4 months after Module 1
 \n\n\n\n\n\n\n\nModule 1 – The first step is an invitation to be moved t
 owards yourself\; to learn and understand more your body’s frequency and
  vibration. In accessing your tremor mechanism\, you can find\n\n 	a safer
  sense of containment and embodiment\n 	more groundedness in Life\n 	bette
 r co-regulated relationships with others\n 	healthy self-regulation\n 	a m
 ore nourished nervous system\n 	an openness\, pleasure\, and healthy excit
 ement/fun – ventral vagalx\n 	a larger window of tolerance\n 	a safe hea
 lthy container from which to do ‘Life’\n\n\n\n 	be Introduced to and g
 ain an understanding of the TRE™ Stretches as designed by Dr David Berce
 li\n 	experience ‘The Tremor Mechanism’ in your own body.\n 	learn mor
 e about titration and slowing down.\n 	understand further the Mammalian Pa
 rasympathetic/Sympathetic Nervous Systems\n 	be introduced to “The Polyv
 agal Theory” (Stephen Porges)\n 	gain insight into the Psoas and Fight/F
 light/Freeze muscles\n 	get more curious with your body and engage self-ad
 ministered interventions.\n 	be Introduced to leading and showing a friend
 /family member/colleague through the TRE™ Stretches as designed by Dr Da
 vid Berceli\n\n&nbsp\;\n\n\n\n  \n\nModule 2 grows our facilitation skil
 ls to lead others through the TRE™ Stretches and a tremor session\n\n 	
 lead and show individuals and small groups through the TRE™ Stretches a
 s designed by Dr David Berceli\n 	practice co-creating a safe container to
  hold space for the individual/s whilst they access their tremor mechanism
 \n 	direct the individual/group towards safe containment and presence duri
 ng the tremor session\n 	guide the individual/group to collaborate in the 
 use of self-regulation tools eg self-interventions\n\n\n\n\n\n 	the safety
  skills required to successfully lead and hold space for an individual/s t
 hrough a session\n 	to further explore the Ventral Vagal vs Dorsal Vagal 
 states\n 	about fascia and its relationship to the tremor mechanism\n 	how
  to follow the body over a period of weeks/months\n 	how to manage Fight/F
 light/Freeze/Dissociation/Appeasement during a session\n 	to explore your 
 presence and role being a TRE™Trainee-Provider\n 	basic touch interventi
 ons to support self-regulation of the tremor mechanism\n 	about your visc
 eral voice and tapping into your intuition\n 	how to manage niche groups a
 nd group dynamics\n 	how to lead the unique individual whilst maintaining 
 the bonding or glue of the collective group experience\n 	ethical aspects
  in Teaching TRE™ to Individuals and small groups\n 	the positives and n
 egatives of transference/countertransference\n 	how to teach adjustments a
 nd adaptations of the TRE™ stretches for disabled/elderly or physically 
 challenged\n 	how to practice safely growing the Window of Tolerance\n 	ab
 out your scope of practice and your role as a future TRE™ Provider\n\n\n
 \n\n\n\nModule 1   4th - 6th October 2024 - Bucharest\, Romania\n\nModule
  2 Dates to be confirmed January - February 2025\n\n&nbsp\;\n\n\n\n\n\n\n\
 n 	2 Modules [2 x 3-FULL day modules in person ] - €450.00 per Module = 
 €900.00\n 	10 private Supervisions [10 x 60-minute sessions @ €75 per 
 session] €750.00                           [ Please note**
 *You may be required to do more personal supervision over the period of th
 e training]\n 	4 x 4.5 hour half day Modules @ €80.00 per session = €3
 20.00  \n\nTotal INVESTMENT €1970.00 for Full 1 Year Certification\n\n
 ***Mandatory Post Certification Supervision for one year [one 2 hour grou
 p session 6 x per year or a 30 minute private session 6 x per year ] in or
 der to maintain Provider status - @€50.00 per session = €300.00\n\n**P
 lease note this does not include  1. registration fee with TRE™ for All
  [€15] 2. website fees for your listing online with TRE™ International
  + TRE™ Romania 3. Fees to join the TRE™ Association of Romania\n\n&nb
 sp\;\n\n&nbsp\;\n\n\n\n\n\nWe ask from prospective candidates that you wri
 te us a letter of intent - introducing yourself - your interest in TRE™ 
 -  Why do you want to do this one year programme and advise what is motiv
 ating you to attend. Why do you believe you are an ideal candidate to be a
  TRE™ Provider\, and how you see yourself using it in the future [ commu
 nity\, private practice\, humanitarian\, business\, research etc]Please se
 nd an email to fionasomahealth@gmail.com.  Once we receive your applicati
 on\, you will be invited to a short zoom interview\n\n&nbsp\;\n\n\n\n&nbsp
 \;\n\n\n\n&nbsp\;\n\n\n\n\n\n**TRE™ denotes TRE’s registered trademark
 . Dr. David Berceli holds the Copyright\, Trademark and Service Mark (SM) 
 for all TRE training materials and the TRE process. All rights to use are 
 reserved and TRE FOR ALL\, Inc (TFA) (NGO) holds distribution rights. Also
  protected are Trauma ReleaseProcess SM\, Tension Release Process SM.\n\n\
 n\n\n\n\n\n\n\n\n\n
CATEGORIES:Intro Workshops / Recurring Classes / Online Events
LOCATION:Elephant Yogi Studio\, Mansarda /the attic\, Strada Sfinților nr.
  6\, București 021063 [Deasupra Papila Restaurant]\, Bucharest\, Romania\
 , 021063\, Romania
X-APPLE-STRUCTURED-LOCATION;VALUE=URI;X-ADDRESS=Mansarda /the attic\, Strad
 a Sfinților nr. 6\, București 021063 [Deasupra Papila Restaurant]\, Buch
 arest\, Romania\, 021063\, Romania;X-APPLE-RADIUS=100;X-TITLE=Elephant Yog
 i Studio:geo:0,0
END:VEVENT
BEGIN:VTIMEZONE
TZID:Europe/Bucharest
X-LIC-LOCATION:Europe/Bucharest
BEGIN:DAYLIGHT
DTSTART:20240331T040000
TZOFFSETFROM:+0200
TZOFFSETTO:+0300
TZNAME:EEST
END:DAYLIGHT
END:VTIMEZONE
END:VCALENDAR