BEGIN:VCALENDAR
VERSION:2.0
PRODID:-//wp-events-plugin.com//7.2.3.1//EN
TZID:America/Los_Angeles
X-WR-TIMEZONE:America/Los_Angeles
BEGIN:VEVENT
UID:1476@treglobal.org
DTSTART;TZID=America/Los_Angeles:20160206T100000
DTEND;TZID=America/Los_Angeles:20160206T170000
DTSTAMP:20160115T200000Z
URL:https://treglobal.org/event/tre-full-day-workshop/
SUMMARY:TRE™ full-day Workshop
DESCRIPTION:In this dynamic and experiential workshop\, you will learn ever
 ything you need to know about TRE and will be able to continue on your own
 \, as well as participate in repeat events such as the monthly peer-group 
 Practice\, offered as an inexpensive service.  You will also (if you wish
 ) benefit from a new follow-up format which has been specially devised to 
 take into account the general world-view\, that TRE requires a dedicated c
 ommitment of several weeks to achieve and experience best results\, for th
 ose who can not attend regularly due to distance for example. Raymond's w
 orkshops are unique and driven by his passion in bodywork and TRE.  Read 
 here "What they said"  http://www.treireland.ie/testimonials.html Bookin
 g details and website :  http://www.treireland.ie/next-workshop.htmlWatch
  out also for the "3-day Retreat" on  20 May 2016  in Ireland's most bea
 utiful house  at http://www.treireland.ie/retreat.html  (already listed
  on this site)There are also 2 interesting Facebook pages : https://www.f
 acebook.com/TRE-Ireland2-919561044756606/  and  an earlier page   http
 s://www.facebook.com/TRE.Ireland/?fref=tsSee you there !
CATEGORIES:Intro Workshops / Recurring Classes / Online Events
LOCATION:Dublin\, on booking\, Ireland\, 8\, Ireland
GEO:53.3349744;-6.332054699999958
X-APPLE-STRUCTURED-LOCATION;VALUE=URI;X-ADDRESS=on booking\, Ireland\, 8\, 
 Ireland;X-APPLE-RADIUS=100;X-TITLE=Dublin:geo:53.3349744,-6.33205469999995
 8
END:VEVENT
BEGIN:VTIMEZONE
TZID:America/Los_Angeles
X-LIC-LOCATION:America/Los_Angeles
BEGIN:STANDARD
DTSTART:20151101T010000
TZOFFSETFROM:-0700
TZOFFSETTO:-0800
TZNAME:PST
END:STANDARD
END:VTIMEZONE
END:VCALENDAR