BEGIN:VCALENDAR
VERSION:2.0
PRODID:-//wp-events-plugin.com//7.2.3.1//EN
TZID:America/Los_Angeles
X-WR-TIMEZONE:America/Los_Angeles
BEGIN:VEVENT
UID:6056@treglobal.org
DTSTART;TZID=Europe/Oslo:20241106T170000
DTEND;TZID=Europe/Oslo:20241106T201500
DTSTAMP:20241009T200210Z
URL:https://treglobal.org/event/tre-for-neurodivergent-well-being-harnessi
 ng-calm-clarity-and-comfort-with-hans-holter-solhjell-and-raquel-deville/
SUMMARY:TRE™ for Neurodivergent Well-Being: Harnessing Calm\, Clarity\, a
 nd Comfort with Hans Holter Solhjell and Raquel Devillé
DESCRIPTION:A free talk by Raquel Devillé\,\nTRE™ provider\, yoga teache
 r and therapist\nWednesday 6th of November\, 2024 | 5 pm CEST(Oslo/Paris)\
 n\nThis is a free talk and open to anyone.\n\nIn this talk\, I will share 
 impactful case stories from neurodivergent individuals—including those w
 ho are autistic\, have ADHD\, or dyslexia—who have reduced stress and an
 xiety\, and achieved better well-being as well as improved outcomes in edu
 cation and their careers through Tension &amp\; Trauma Release Exercises (
 TRE).\n\nWe will delve into the practical applications of TRE for managing
  symptoms of autism and ADHD. This exploration aims to inspire you to cons
 ider incorporating TRE into your personal routine or professional practice
 .\n\nThis presentation is designed for both experienced TRE providers and 
 trainers\, as well as those new to this method or those experiencing chron
 ic pain. You will gain insights into how TRE can be a transformative tool 
 in managing discomfort and enhancing daily functioning.\nRegister for the 
 free talk here.\n\nAbout Raquel Devillé\nTRE™ provider\, yoga teacher a
 nd therapist\n\nIn 2018\, I discovered that I am neurodivergent. Since the
 n\, I have devoted myself to exploring this subject through extensive read
 ing and research.\n\nWith a solid foundation in HR management and a master
 ’s in Occupational Health and Ergonomics\, I have always been drawn to u
 nderstanding the dynamics of the human body. My journey underwent a signif
 icant transformation with the discovery of yoga and TRE. This combination 
 proved revolutionary\, merging my academic background with a holistic appr
 oach to health and wellness.\n\nAs the founder of Recentrez-vous\, a yoga 
 and therapy center in Virton\, Belgium\, I have the privilege of sharing m
 y insights and enthusiasm with a diverse range of individuals. However\, i
 t is my role as a TRE provider that has been particularly gratifying. I ha
 ve witnessed neurodivergent clients unlock remarkable potential\, achievin
 g eased anxiety\, enhanced academic performance\, and improved productivit
 y through the power of this practice.\n\nI am proudly autistic and hail fr
 om the coastal village of Ericeira in Portugal\, though I now make my home
  in Virton\, Belgium. I am committed to a balanced\, natural lifestyle\; I
  choose to walk barefoot\, consume only unprocessed foods\, and prioritize
  early bedtime to support my well-being.
CATEGORIES:TRE® Continuing Education / Specialty Training
LOCATION:https://oppmerksombevegelse.no/harnessing-tre-for-neurodiversity/
END:VEVENT
BEGIN:VTIMEZONE
TZID:Europe/Oslo
X-LIC-LOCATION:Europe/Oslo
BEGIN:STANDARD
DTSTART:20241027T020000
TZOFFSETFROM:+0200
TZOFFSETTO:+0100
TZNAME:CET
END:STANDARD
END:VTIMEZONE
END:VCALENDAR