BEGIN:VCALENDAR
VERSION:2.0
PRODID:-//wp-events-plugin.com//7.2.3.1//EN
TZID:America/Los_Angeles
X-WR-TIMEZONE:America/Los_Angeles
BEGIN:VEVENT
UID:6064@treglobal.org
DTSTART;TZID=Europe/Oslo:20240812T190000
DTEND;TZID=Europe/Oslo:20240826T210000
DTSTAMP:20240611T170037Z
URL:https://treglobal.org/event/tre-exercises-in-depth-tre-tremoring-while
 -lying-on-the-side-part-1-with-hans-holter-solhjell/
SUMMARY:TRE™ exercises in depth: TRE™ tremoring while Lying on the Side
  with Hans Holter Solhjell
DESCRIPTION:-Learn how to benefit more from the TRE™ exercises by includi
 ng the side-laying position.\nTRE™ connect\, Q&amp\;A and tremor session
  led by Hans Holter Solhjell \n\n-Educator\, TRE™ Global Certification T
 rainer\, developer of the PLS framework and the Response Funnel.\nMany par
 ticipants in TRE™ courses primarily learn the basic positions in TRE and
  tremor only lying on their back. While this position is an excellent star
 ting point for many patterns of tremors and movements\, a typical TRE™ s
 ession can involve a wide range of body movements\, and not all are well-s
 upported by the back-lying position.\n\nEach position in TRE™ facilitate
 s certain patterns and movements while potentially hindering others. The s
 ide-lying position is particularly useful for understanding with regards t
 o flexion and extension movements\, rotational movements\, as well as brea
 th-related releases\, crying etc. It also allows for a new set of hands-on
  interventions.\n\nThe 2 sessions will be recorded and the recordings avai
 lable to buy also later. As a participant in the session you will receive 
 access to the recording.\nHans Holter Solhjell\n\nThe purpose of these 2 s
 essions are also to connect with others who practice TRE™ to share exper
 iences\, support and learn from each other.\n\nPrice: $117 for both sessio
 ns.\nSign up for Q&amp\;A and tremor session here.\n\nAbout Hans Holter So
 lhjell\n\n-Educator\, TRE™ Global Certification Trainer\, developer of t
 he PLS framework and the Response Funnel.\n\nI became actively involved in
  self-development as a student in my early 20’s and have been focused on
  learning\, self-development and change processes\, body-oriented methods\
 , communication\, conflict resolution\, parenting\, trauma therapy\, Integ
 ral theory and various sports activities like barefoot running\, total imm
 ersion swimming\, skiing\, self-defense\, Aikido\, Krav Maga etc.\n\n&nbsp
 \;\n\nI have trained in and are a practitioner of several practices\, the 
 Feldenkrais Method\, Communicology\, the Sounder Sleep System\, Somatic Ex
 periencing (SE)\, and am also certified as a Trainer in Trauma Release Exe
 rcises (TRE).\n\nAfter completing a major in pedagogy\, and also worked at
  the Police College in Oslo\, where I taught psychology with an emphasis o
 n stress management and conflict resolution. I have been teaching courses\
 , trainings\, and counseling in private practice since 2006.\n\nIn my priv
 ate practice\, I work with counseling and courses for parents\, trainings 
 for staff in kindergartens and schools\, with body-oriented trauma therapy
 \, and body oriented learning and development processes.\n\nI have also de
 veloped several practical models for self-development and developmentally 
 supportive conflict resolution\, among them the PLS (Positive Learning Spi
 rals) regulation support model\, a practically oriented method for develop
 ment-supportive communication and conflict resolution in relationships wit
 h children.\n\nYou can read more about me here.\n\n&nbsp\;
CATEGORIES:TRE® Continuing Education / Specialty Training
LOCATION:https://oppmerksombevegelse.no/tre-talk-and-sessions-series-2024/t
 re-tremoring-in-side-lying/
END:VEVENT
BEGIN:VTIMEZONE
TZID:Europe/Oslo
X-LIC-LOCATION:Europe/Oslo
BEGIN:DAYLIGHT
DTSTART:20240331T030000
TZOFFSETFROM:+0100
TZOFFSETTO:+0200
TZNAME:CEST
END:DAYLIGHT
END:VTIMEZONE
END:VCALENDAR