BEGIN:VCALENDAR
VERSION:2.0
PRODID:-//wp-events-plugin.com//7.2.3.1//EN
TZID:America/Los_Angeles
X-WR-TIMEZONE:America/Los_Angeles
BEGIN:VEVENT
UID:5953@treglobal.org
DTSTART;TZID=Europe/Oslo:20240415T191500
DTEND;TZID=Europe/Oslo:20240513T204500
DTSTAMP:20240303T201437Z
URL:https://treglobal.org/event/tre-exercises-in-depth-tre-tremoring-in-st
 anding-part-1-with-hans-holter-solhjell-2/
SUMMARY:TRE™ Tremoring Including the Hands and Feet with Hans Holter Solh
 jell. 3 parts series
DESCRIPTION:-Release your Hands\, Fingers\, Feet and Toes\n\n\n\n\nIn this 
 3 part series of TRE™ sessions\, we will explore tremoring with a focus 
 on the hands\, fingers\, feet and toes.\n\n\n\n\nTRE™ connect\, Q&amp\;A
  and tremor session led by Hans Holter Solhjell \n\n-Educator\, TRE™ Glo
 bal Certification Trainer\, Conflict Resolution Trainer\, SE and Feldenkra
 is Method Practititoner.\n\n\n\n\nDates and time: \n\n 	Part 1: April 15t
 h at 7:15 pm to 8:45 pm.\n 	Part 2: April 29th at 7:15 pm to 8:45 pm.\n\n 
 	Part 3: May 13th at 7:15 pm to 8:45 pm.\n\n\nAll times are  CEST (Oslo\,
  Norway).\n\n\n\n\n\n\n\n\nIn this series of three sessions we will focus 
 on including the hands\, fingers\, feet and toes in tremoring and release.
 \n\n 	Course Focus: Explore including hands\, fingers\, feet\, and toes in
  tremoring and release.\n 	Often Neglected Areas: Hands\, feet\, fingers\,
  and toes are often overlooked in tremor and release practices.\n 	Trauma\
 , Tension\, Collapse and Dissociation: These body parts can harbor deep te
 nsions as well as collapse and dissociation\, feeling numb or cold\, hidin
 g emotions and trauma from various sources such as injuries\, pain\, viole
 nce\, medical interventions\, emotional abuse or developmental neglect.\n 
 	Connections to the Rest of the Body: We will also explore the deep connec
 tion from the extremities trough the Fascia and muscular lines connecting 
 to the rest of body\, supporting overall release and integration.\n\n\n\n\
 n&nbsp\;\n\nThe sessions will be recorded and the recordings available to 
 buy also later. As a participant in the session you will receive access to
  the recording.\nHans Holter Solhjell\n\nThe purpose of these sessions are
  also to connect with others who practice TRE™ to share experiences\, su
 pport and learn from each other.\n\nPrice: 49 USD\n\nWe have a discount pe
 r session if you sign up for two or tree sessions. Please see information 
 on the sign up page.\nSign up for Q&amp\;A and tremor session here.\n\nAbo
 ut Hans Holter Solhjell\n\n-Educator\, TRE™ Global Certification Trainer
 \, developer of the PLS framework and the Response Funnel.\n\nI became act
 ively involved in self-development as a student in my early 20’s and hav
 e been focused on learning\, self-development and change processes\, body-
 oriented methods\, communication\, conflict resolution\, parenting\, traum
 a therapy\, Integral theory and various sports activities like barefoot ru
 nning\, total immersion swimming\, skiing\, self-defense\, Aikido\, Krav M
 aga etc.\n\n&nbsp\;\n\nI have trained in and are a practitioner of several
  practices\, the Feldenkrais Method\, Communicology\, the Sounder Sleep Sy
 stem\, Somatic Experiencing (SE)\, and am also certified as a Trainer in T
 rauma Release Exercises (TRE).\n\nAfter completing a major in pedagogy\, a
 nd also worked at the Police College in Oslo\, where I taught psychology w
 ith an emphasis on stress management and conflict resolution. I have been 
 teaching courses\, trainings\, and counseling in private practice since 20
 06.\n\nIn my private practice\, I work with counseling and courses for par
 ents\, trainings for staff in kindergartens and schools\, with body-orient
 ed trauma therapy\, and body oriented learning and development processes.\
 n\nI have also developed several practical models for self-development and
  developmentally supportive conflict resolution\, among them the PLS (Posi
 tive Learning Spirals) regulation support model\, a practically oriented m
 ethod for development-supportive communication and conflict resolution in 
 relationships with children.\n\nYou can read more about me here.\n\n&nbsp
 \;
ATTACH;FMTTYPE=image/jpeg:https://treglobal.org/wp-content/uploads/2023/11
 /HHS-tre-talk-sq.jpg
CATEGORIES:TRE® Continuing Education / Specialty Training
LOCATION:https://oppmerksombevegelse.no/tre-hands-fingers-feet-toes/
END:VEVENT
BEGIN:VTIMEZONE
TZID:Europe/Oslo
X-LIC-LOCATION:Europe/Oslo
BEGIN:DAYLIGHT
DTSTART:20240331T030000
TZOFFSETFROM:+0100
TZOFFSETTO:+0200
TZNAME:CEST
END:DAYLIGHT
END:VTIMEZONE
END:VCALENDAR