BEGIN:VCALENDAR
VERSION:2.0
PRODID:-//wp-events-plugin.com//7.2.3.1//EN
TZID:America/Los_Angeles
X-WR-TIMEZONE:America/Los_Angeles
BEGIN:VEVENT
UID:1621@treglobal.org
DTSTART;TZID=America/Los_Angeles:20161205T000000
DTEND;TZID=America/Los_Angeles:20161205T000000
DTSTAMP:20160425T010328Z
URL:https://treglobal.org/event/tre-class-seriesthursdaysnw-portland-orego
 n/
SUMMARY:TRE™ Class Series~THURSDAYS~NW Portland Oregon
DESCRIPTION:Thursday\, May 12 2016:  7:00 pm-830 pmThursday\, May 19 2016:
   7:00 pm-8:30 pmThursday\, May 26 2016:  7:00 pm-8:30 pm
CATEGORIES:Intro Workshops / Recurring Classes / Online Events
LOCATION:Embodiment Bodywork at Flanders House\, 1815 NW Flanders Suite L10
 3\, Portland\, Or.\, 97209\, Pacific Northwest\, United States
GEO:45.5258397;-122.6897525
X-APPLE-STRUCTURED-LOCATION;VALUE=URI;X-ADDRESS=1815 NW Flanders Suite L103
 \, Portland\, Or.\, 97209\, Pacific Northwest\, United States;X-APPLE-RADI
 US=100;X-TITLE=Embodiment Bodywork at Flanders House:geo:45.5258397,-122.6
 897525
END:VEVENT
BEGIN:VTIMEZONE
TZID:America/Los_Angeles
X-LIC-LOCATION:America/Los_Angeles
BEGIN:STANDARD
DTSTART:20161106T010000
TZOFFSETFROM:-0700
TZOFFSETTO:-0800
TZNAME:PST
END:STANDARD
END:VTIMEZONE
END:VCALENDAR