BEGIN:VCALENDAR
VERSION:2.0
PRODID:-//wp-events-plugin.com//7.2.3.1//EN
TZID:America/Los_Angeles
X-WR-TIMEZONE:America/Los_Angeles
BEGIN:VEVENT
UID:1309@treglobal.org
DTSTART;TZID=America/Los_Angeles:20151113T000000
DTEND;TZID=America/Los_Angeles:20151115T163000
DTSTAMP:20150911T024954Z
URL:https://treglobal.org/event/tre-certification-training-module-1/
SUMMARY:Burlington\, VT - TRE™ Certification Training Module 1
DESCRIPTION:What: TRE™ Module 1 training is for people interested in lea
 rning about TRE™ for their own healing and for those who would like to b
 egin to learn how to use TRE™ to help others.   Where:  The location 
 is The Living Room: Center for Positivity\, 8 Railroad Ave.  Essex Juncti
 on\, Vermont.  When: November 13th\, 14th\, &amp\; 15th\; Friday\, Satur
 day  &amp\; Sunday.  The day will begin at 9:00AM and end at 4:30 PM.  
 Lunch is from 12:00PM until 1:30PM and is on your own.  There are several
  places to eat within walking distance.   Module 2 dates TBD but likely 
 in March or April 2016. Register at WWW.jaygleasonvt.comThe maximum numbe
 r of participants is 12.  About TRE™ is an innovative series of exerci
 ses that helps the body release deeply held tension\, stress\, &amp\; trau
 ma.  Created by David Berceli\, PhD\, TRE™ safely activates a natural r
 eflex mechanism of shaking or vibrating that releases muscular tension\, c
 alming down the nervous system.  All mammals have this instinctual healin
 g response which neuroscientists call the “freeze discharge” (Scaer\, 
 2010.)  The exercises are safe and can be modified for almost all body ty
 pes.  TRE™ is a cutting edge treatment that is being taught in 37 count
 ries and is presently being studied by the Veterans Administration.  Afte
 r doing TRE™\, many people report feelings of peace and well-being.Train
 ing Highlights Anatomy\, neurology\, and physiology as it relates to TRE
 ™Understanding the tremor responseIntroduction to the Polyvagal Theory (
 Stephen Porges)Defense reactions as they relate to TRE™Containment and g
 rounding strategiesIntroduction to the basic skills of working with indivi
 duals and groupsIntroduction to TRE™ and personal tremoring experiences
   Upon completion of the Module 1 training\, you will have a deep unders
 tanding of the benefits of TRE™ for yourself and have an understanding o
 f how to use TRE™ to help others heal. (Please note that Module 2 and ot
 her requirements are needed to be certified.) TRE™ is practiced by psyc
 hotherapists\, massage therapist\, PTs\, acupuncturists\, coaches\, chirop
 ractors and many other types of helpers.   Applications for 18 CEUs for
  counselors\, psychologists\, and social workers (licensed in Vermont) wi
 ll be submitted\, but nonprofessionals are encouraged to register too!Jay 
 Gleason\, MS\, LCMHC\, LADC\, NCC has been a psychotherapist for 18 years.
   He is trained in multiple somatic and mindfulness-based treatments incl
 uding EMDR.  He is a Certified Massage Therapist and a Certification Trai
 ner (trainer of trainers) for TRE™.
CATEGORIES:Certification Trainings
LOCATION:The Living Room: Center for Positivity\, 8 Railroad Ave\, Essex Ju
 nction\, Vermont\, 05452\, United States
GEO:44.4916983;-73.10990129999999
X-APPLE-STRUCTURED-LOCATION;VALUE=URI;X-ADDRESS=8 Railroad Ave\, Essex Junc
 tion\, Vermont\, 05452\, United States;X-APPLE-RADIUS=100;X-TITLE=The Livi
 ng Room: Center for Positivity:geo:44.4916983,-73.10990129999999
END:VEVENT
BEGIN:VTIMEZONE
TZID:America/Los_Angeles
X-LIC-LOCATION:America/Los_Angeles
BEGIN:STANDARD
DTSTART:20151101T010000
TZOFFSETFROM:-0700
TZOFFSETTO:-0800
TZNAME:PST
END:STANDARD
END:VTIMEZONE
END:VCALENDAR