BEGIN:VCALENDAR
VERSION:2.0
PRODID:-//wp-events-plugin.com//7.2.3.1//EN
TZID:America/Los_Angeles
X-WR-TIMEZONE:America/Los_Angeles
BEGIN:VEVENT
UID:1598@treglobal.org
DTSTART;TZID=America/Los_Angeles:20160617T083000
DTEND;TZID=America/Los_Angeles:20160619T153000
DTSTAMP:20160406T193945Z
URL:https://treglobal.org/event/tre-certification-training-module-1-in-osl
 o-norway/
SUMMARY: TRE™ Certification Training module 1 in Oslo\, Norway
DESCRIPTION:This 3-day TRE Module 1 training is for those interested in lea
 rning TRE for self application as well as for those who want to continue t
 o module 2 and focus on teaching TRE to individuals and groups. Module 1 i
 s open to anyone interested in TRE for self application\, and who want an 
 in depth experience of TRE as well as theoretical understandig of stress\,
  trauma and TRE. So Module 1 can also be taken for personal interest and s
 elf-help\, without an interest to continue to module 2.This 3-day module i
 nclude:Exploration of the stress-trauma response\, including anatomy\, neu
 rology\, physiologyUnderstanding the therapeutic tremor responseExperienti
 al introduction to TRE as a self-practiceExploration and application of se
 lf-regulation in TREContainment and grounding strategiesBeginning skills f
 or teaching TRE to othersThis is an experiential training with a strong fo
 cus on the trainee’s personal TRE experience.The teaching language is no
 rwegian.Additional certification requirements must be met for full certifi
 cation and to develop competencies needed to teach TRE™ to others.You ca
 n find all information about this module 1 training here\, http://www.opp
 merksombevegelse.no/kurs/tre-utdannelse/  
CATEGORIES:Certification Trainings
LOCATION:Positive Spiraler\, Kirkveien 64 A\, Oslo\, Norway\, 0377\, Norway
GEO:59.929054;10.715597800000069
X-APPLE-STRUCTURED-LOCATION;VALUE=URI;X-ADDRESS=Kirkveien 64 A\, Oslo\, Nor
 way\, 0377\, Norway;X-APPLE-RADIUS=100;X-TITLE=Positive Spiraler:geo:59.92
 9054,10.715597800000069
END:VEVENT
BEGIN:VTIMEZONE
TZID:America/Los_Angeles
X-LIC-LOCATION:America/Los_Angeles
BEGIN:DAYLIGHT
DTSTART:20160313T030000
TZOFFSETFROM:-0800
TZOFFSETTO:-0700
TZNAME:PDT
END:DAYLIGHT
END:VTIMEZONE
END:VCALENDAR