BEGIN:VCALENDAR
VERSION:2.0
PRODID:-//wp-events-plugin.com//7.2.3.1//EN
TZID:America/Los_Angeles
X-WR-TIMEZONE:America/Los_Angeles
BEGIN:VEVENT
UID:1286@treglobal.org
DTSTART;TZID=America/Los_Angeles;VALUE=DATE:20150828
DTEND;TZID=America/Los_Angeles;VALUE=DATE:20150831
DTSTAMP:20150728T162443Z
URL:https://treglobal.org/event/tre-certification-training-module-1-and-2-
 in-oslo-norway-tre-certification-trainer-is-barbro-andersen/
SUMMARY: TRE™ Certification Training Module 1 and 2 in Oslo\, Norway. TRE
  Certification Trainer is Barbro Andersen
DESCRIPTION:module 1Friday\, August 28\, 2015 : 11:00 AM to 06:00 PMSaturda
 y\, August 29\, 2014 : 1o:00 PM to 05:00 PMSunday\, August 30 : 10:00 AM t
 o 16:00 PM module 2Friday\, February 5 2016 : 11:00 AM to 06:00 PMSaturda
 y\, February 6\, 2016 : 10:00 AM to 05:00 PMSunday\, February 7\, 2014 : 1
 0:00 PM to 16:00 PM
CATEGORIES:Certification Trainings
LOCATION:Josefines gate 27 0351 Oslo \, Josefinesgt 27\, OSLO\, Oslo\, 0351
 \, Norway
GEO:59.92284489999999;10.725361199999952
X-APPLE-STRUCTURED-LOCATION;VALUE=URI;X-ADDRESS=Josefinesgt 27\, OSLO\, Osl
 o\, 0351\, Norway;X-APPLE-RADIUS=100;X-TITLE=Josefines gate 27 0351 Oslo :
 geo:59.92284489999999,10.725361199999952
END:VEVENT
BEGIN:VTIMEZONE
TZID:America/Los_Angeles
X-LIC-LOCATION:America/Los_Angeles
BEGIN:DAYLIGHT
DTSTART:20150308T030000
TZOFFSETFROM:-0800
TZOFFSETTO:-0700
TZNAME:PDT
END:DAYLIGHT
END:VTIMEZONE
END:VCALENDAR