BEGIN:VCALENDAR
VERSION:2.0
PRODID:-//wp-events-plugin.com//7.2.3.1//EN
TZID:America/Los_Angeles
X-WR-TIMEZONE:America/Los_Angeles
BEGIN:VEVENT
UID:5430@treglobal.org
DTSTART;TZID=Australia/Eucla;VALUE=DATE:20210826
DTEND;TZID=Australia/Eucla;VALUE=DATE:20210828
DTSTAMP:20210709T113232Z
URL:https://treglobal.org/event/tre-certification-training-modul-1-switzer
 land/
SUMMARY:TRE™ Certification Training Modul 1 (Switzerland)
DESCRIPTION:TRE™ Certification Training 2021-2022 – TRE™ Schweiz (Ger
 man)\nWelcome to this new TRE™  Certification training in Zurich\, Swit
 zerland run by Rachporn Sangkasaad Taal (Certification Trainer) and Mentor
  trainees from TRE™  Schweiz.\n\nModul I – Introduction\nThursday\, 2
 6.8.2021\nFriday\, 27.8.2021\n\nModul II\nMonday\, 8.11.2021 afternoon\nTu
 esday\, 9.11.2021\nWednesday\, 10.11.2021 morning\n\nModul III\nFriday\, 7
 .1.2022 afternoon\nSaturday\, 8.1.2022\nSunday\, 9.1.2022 morning\n\nTrain
 er\nRachporn Sangkasaad Taal\, (TRE™ Certification Trainer) with assisti
 ng Mentor trainees from TRE™ Schweiz\n\nLocation\nPolarity Bildungszentr
 um Zurich\n\nCosts\nModul costs CHF 560.-\, group supervision CHF 280.-\nA
 dditional costs for required individual sessions\, supervision and certifi
 cation.\n\nRegistration\n\nLunar Willi\, Verein TRE Schweiz\nsekretariat@t
 re-schweiz.ch\, 079 363 94 00\n\nhttps://tre-schweiz.ch/fortbildung-zum-tr
 e-provider/
CATEGORIES:Intro Workshops / Recurring Classes / Online Events
LOCATION:Polarity Bildungszentrum\, 8001 Zurich\, Zurich\, Switzerland\, Sw
 itzerland
X-APPLE-STRUCTURED-LOCATION;VALUE=URI;X-ADDRESS=8001 Zurich\, Zurich\, Swit
 zerland\, Switzerland;X-APPLE-RADIUS=100;X-TITLE=Polarity Bildungszentrum:
 geo:0,0
END:VEVENT
BEGIN:VTIMEZONE
TZID:Australia/Eucla
X-LIC-LOCATION:Australia/Eucla
BEGIN:STANDARD
DTSTART:20200826T000000
TZOFFSETFROM:+0845
TZOFFSETTO:+0845
TZNAME:+0845
END:STANDARD
END:VTIMEZONE
END:VCALENDAR