BEGIN:VCALENDAR
VERSION:2.0
PRODID:-//wp-events-plugin.com//7.2.3.1//EN
TZID:America/Los_Angeles
X-WR-TIMEZONE:America/Los_Angeles
BEGIN:VEVENT
UID:1275@treglobal.org
DTSTART;TZID=America/Los_Angeles:20150801T140000
DTEND;TZID=America/Los_Angeles:20150801T153000
DTSTAMP:20150724T154633Z
URL:https://treglobal.org/event/tre-beginning-class-open-to-the-public-2/
SUMMARY:TRE beginning class\, open to the public
DESCRIPTION:https://www.eventjoy.com/e/tre-class-in-marina-del-rey-3606903f
 or more information contact Emily310 904 3698emyvee@yahoo.comwww.SomaticTr
 aumaSolution.com
CATEGORIES:Intro Workshops / Recurring Classes / Online Events
LOCATION:Yoga Nest Venice\, 38 West Washington Blvd\, Marina Del Rey\, CA\,
  90292\, United States
GEO:33.9794779;-118.4655937
X-APPLE-STRUCTURED-LOCATION;VALUE=URI;X-ADDRESS=38 West Washington Blvd\, M
 arina Del Rey\, CA\, 90292\, United States;X-APPLE-RADIUS=100;X-TITLE=Yoga
  Nest Venice:geo:33.9794779,-118.4655937
END:VEVENT
BEGIN:VTIMEZONE
TZID:America/Los_Angeles
X-LIC-LOCATION:America/Los_Angeles
BEGIN:DAYLIGHT
DTSTART:20150308T030000
TZOFFSETFROM:-0800
TZOFFSETTO:-0700
TZNAME:PDT
END:DAYLIGHT
END:VTIMEZONE
END:VCALENDAR