BEGIN:VCALENDAR
VERSION:2.0
PRODID:-//wp-events-plugin.com//7.2.3.1//EN
TZID:America/Los_Angeles
X-WR-TIMEZONE:America/Los_Angeles
BEGIN:VEVENT
UID:5977@treglobal.org
DTSTART;TZID=Europe/London:20240209T190000
DTEND;TZID=Europe/London:20240209T213000
DTSTAMP:20240108T154537Z
URL:https://treglobal.org/event/tre-and-sound-healing-in-person-london-wit
 h-chandani-statesofhealing-london-uk-2/
SUMMARY:TRE and Sound Healing (In-Person\, London) with Chandani @statesofh
 ealing\, London UK
DESCRIPTION:TRE™ and Sound Healing Experience! This gorgeous evening brin
 gs you an introduction to Tension and Trauma Releasing Exercises (TRE™) 
 before bathing in a meditative sound healing journey.\nAll details and boo
 king: https://treandsoundfeb.eventbrite.co.uk/?aff=treforall\n\nWhat's the
  schedule?\n\nThis practical and interactive experience includes:\n\n 	An 
 introduction and guided experience of the whole TRE process\n 	Understandi
 ng how to recover from trauma from a physiological perspective\n 	How to s
 tart your own TRE practice at home\n 	Time to rest and integrate\n 	Space 
 to share and ask questions\n 	A guided meditative Sound Bath Journey with 
 singing bowls\, gong\, bells and more!\n\n&nbsp\;\n\nBooking\n\nNote: You 
 can save paying Eventbrite fees and book directly with Chandani. Email sta
 tesofhealing@gmail.com and you'll be sent a payment link followed by your 
 ticket.  Tickets are £45pp or two for £70.
CATEGORIES:Intro Workshops / Recurring Classes / Online Events
LOCATION:ZenW2 Collective\, Unit 12\, Queens Parade\, Walm Lane\, London\, 
 NW2 5HT\, United Kingdom
X-APPLE-STRUCTURED-LOCATION;VALUE=URI;X-ADDRESS=Unit 12\, Queens Parade\, W
 alm Lane\, London\, NW2 5HT\, United Kingdom;X-APPLE-RADIUS=100;X-TITLE=Ze
 nW2 Collective:geo:0,0
END:VEVENT
BEGIN:VTIMEZONE
TZID:Europe/London
X-LIC-LOCATION:Europe/London
BEGIN:STANDARD
DTSTART:20231029T010000
TZOFFSETFROM:+0100
TZOFFSETTO:+0000
TZNAME:GMT
END:STANDARD
END:VTIMEZONE
END:VCALENDAR