BEGIN:VCALENDAR
VERSION:2.0
PRODID:-//wp-events-plugin.com//7.2.3.1//EN
TZID:America/Los_Angeles
X-WR-TIMEZONE:America/Los_Angeles
BEGIN:VEVENT
UID:6042@treglobal.org
DTSTART;TZID=America/New_York:20240511T180000
DTEND;TZID=America/New_York:20240511T193000
DTSTAMP:20240506T163639Z
URL:https://treglobal.org/event/tre-and-restorative-yoga/
SUMMARY:TRE and Restorative Yoga
DESCRIPTION:Indulge in the ultimate relaxation experience as you sink into 
 deeply nourishing and rejuvenating restorative yoga poses followed by TRE.
  Your dream of pure bliss is now a reality! Join Bonnie for this exquisite
  experience. Treat yourself or surprise a loved one with an early Mother's
  Day gift they'll cherish. Don't miss out on this unforgettable experience
 !\nSaturday 6-7:30PM EST\n\n5/11\n\n$45. $35 with discount code  TRERESTO
 RE which is valid until 5/4\n\nYoga Loka\n\n23 Race Street\n\nFrenchtown 
 NJ 08825\n\nhttps://www.yoga-loka.com/workshops.html
CATEGORIES:Intro Workshops / Recurring Classes / Online Events
LOCATION:https://www.yoga-loka.com/%20
END:VEVENT
BEGIN:VTIMEZONE
TZID:America/New_York
X-LIC-LOCATION:America/New_York
BEGIN:DAYLIGHT
DTSTART:20240310T030000
TZOFFSETFROM:-0500
TZOFFSETTO:-0400
TZNAME:EDT
END:DAYLIGHT
END:VTIMEZONE
END:VCALENDAR