BEGIN:VCALENDAR
VERSION:2.0
PRODID:-//wp-events-plugin.com//7.2.3.1//EN
TZID:America/Los_Angeles
X-WR-TIMEZONE:America/Los_Angeles
BEGIN:VEVENT
UID:6095@treglobal.org
DTSTART;TZID=America/New_York:20240906T130000
DTEND;TZID=America/New_York:20240906T170000
DTSTAMP:20240826T200557Z
URL:https://treglobal.org/event/tre-and-meditation-retreat-day/
SUMMARY:TRE and Meditation Retreat DAy
DESCRIPTION:\nThis one-day meditation retreat will deepen your mindfulness 
 through integrated somatic practices. We will explore the synergy between 
 movement and stillness\, using yoga\, TRE and being in nature to prepare t
 he body and mind for a profound meditation experience. Throughout the day 
 we will engage in yoga and TRE sessions to promote relaxation and receptiv
 ity which will lead to stillness of the mind.\n\nWhether you're new to med
 itation or looking to enhance your practice\, this retreat provides a sere
 ne space to discover how yoga can support and enrich your journey.\n\n\nVe
 gan homemade meal will be served off-site at 5:00 pm EST.\n\nFriday 1-5 pm
  EST\n9/6\n$125. $100 with discount code TREANDMEDITATAION which is vali
 d until 9/1\n
CATEGORIES:Intro Workshops / Recurring Classes / Online Events
LOCATION:https://www.yoga-loka.com/%20
END:VEVENT
BEGIN:VTIMEZONE
TZID:America/New_York
X-LIC-LOCATION:America/New_York
BEGIN:DAYLIGHT
DTSTART:20240310T030000
TZOFFSETFROM:-0500
TZOFFSETTO:-0400
TZNAME:EDT
END:DAYLIGHT
END:VTIMEZONE
END:VCALENDAR