BEGIN:VCALENDAR
VERSION:2.0
PRODID:-//wp-events-plugin.com//7.2.3.1//EN
TZID:America/Los_Angeles
X-WR-TIMEZONE:America/Los_Angeles
BEGIN:VEVENT
UID:5837@treglobal.org
DTSTART;TZID=Europe/Oslo:20230919T170000
DTEND;TZID=Europe/Oslo:20230919T201500
DTSTAMP:20230419T163314Z
URL:https://treglobal.org/event/tre-and-leadership-development/
SUMMARY:TRE™ and leadership development with Marie Simonsen and Hans Holt
 er Solhjell
DESCRIPTION:-The importance of stress regulation in today’s corporate wor
 ld\nA talk by Marie Simonsen\,\nCertified Business Coach\, TRE™ instruct
 or\, Hypnosis and EMDR practitioner\nTuesday\, September 19th | 5 pm – 
 6 pm (Oslo/Paris/Berlin)\n\nThis is a free talk and open to anyone.\n\nIn
  this talk\, Marie will talk about the importance of stress regulation for
  leaders and professionals. In her practice\, Coaching for Stress and Burn
 -out\, she uses body work\, TRE™\, hypnosis and EMDR in her work with pr
 ofessionals\,  for the purpose of healing\, embodiment\, and elevating co
 nsciousness.\n\nShe will share her personal story about stress and burnout
 \, how she uses TRE™ with professionals and share her ideas for how to c
 ommunicate about the importance of stress regulation\, embodiment and TRE
 ™ in the corporate world.\n\nDuring the talk Marie will ask the audience
  some questions to reflect on and share\, to facilitate a group learning p
 rocess.\nRegister for the free talk here.\n\nHypnosis inspired TRE™ trem
 or session\nTRE™ connect\, Q&amp\;A and tremor session led by Hans Holte
 r Solhjell and Marie Simonsen\n\nIn this two-hour session\, we will connec
 t and share experiences related to the topic of the talk and TRE™ in gen
 eral\, and you can ask questions related to the topic of the talk.\n\nWe w
 ill also do one\, possibly two tremor sessions\, demonstrate interventions
  and modifications\, and provide individual guidance and support.\n\nDurin
 g this tremor session Marie will guide you through a hypnosis inspired “
 spring clean” which will allow you to free yourself from the things that
  no longer serve you while tremoring.\nSign up for Q&amp\;A and tremor ses
 sion here.\n\nAbout Marie Simonsen\nBusiness Coach &amp\; Certified TRE™
 \, Hypnosis\, and EMDR practitioner\n\nMarie have more than 10 years of ex
 perience in the international business world\, working for the virtual bra
 nch of Harvard business school and in charge of developing leadership trai
 ning programs for global companies.\n\nToday she is coaching companies and
  senior professionals with a particular focus on corporate stress and burn
 out. To help her clients cope with stress and pressure in today’s comple
 x world\, she combines bodywork and coaching.
CATEGORIES:TRE® Continuing Education / Specialty Training
LOCATION:https://oppmerksombevegelse.no/tre-and-leadership-development-with
 -marie-simonsen/
END:VEVENT
BEGIN:VTIMEZONE
TZID:Europe/Oslo
X-LIC-LOCATION:Europe/Oslo
BEGIN:DAYLIGHT
DTSTART:20230326T030000
TZOFFSETFROM:+0100
TZOFFSETTO:+0200
TZNAME:CEST
END:DAYLIGHT
END:VTIMEZONE
END:VCALENDAR